Workbook
Name Belegprüfung_erfolgt: Auswahlmöglichkeiten!$F$3:$F$4
Name risikobasierte_Kriterien: Auswahlmöglichkeiten!$F$10:$F$25
Name risikobehaftete_Ausgabenkategorien: #REF!
Name Vergabetiefenprüfung: Auswahlmöglichkeiten!$F$6:$F$7
Name zahlenbasierte_Kriterien: Auswahlmöglichkeiten!$F$27:$F$30

Sheet Gesamtübersicht je AZ
A3: Programm REGIO AKTIV - Förderbereich C zahlenmäßiger Nachweis - Anlage 1 zum Auszahlungsantrag Nr. | D3: vom | G3: Bitte die grau hinterlegten Felder befüllen! Wir geben Ihnen Hinweise zur Eingabe der notwendigen Daten, sobald Sie die betreffenden Felder auswählen
A5: GESAMTÜBERSICHT | G5: Hinweis: Die Angaben in den nicht farblich unterlegten Feldern werden aufgrund Ihrer Eingaben automatisch berechnet.
A7: Zuwendungs-/Zuweisungsempfänger
A8: Vorhaben
A9: Vorgangsnummer laut Zuwendungsbescheid/ Zuweisungsschreiben | G9: Hinweis: Bitte geben Sie hier ausschließlich die Zahlen ohne Trennung an. Das Format wird automatisch dargestellt.
A11: Bewilligungszeitraum | B11: vom | D11: bis
A12: Abrechnungsszeitraum | B12: vom | D12: bis
A14: Fördersatz (gem. Ziffer 1. des Zuwendungsbescheides) | B14: 1 | C14: wenn abweichend dann hier eintragen
A15: Fördersatz indirekte Ausgaben (gem. Zuwendungsbescheid) | B15: 0.15 | C15: wenn abweichend dann hier eintragen
B18: Angaben lt. Zuwendungsbescheid/ Zuweisungsschreiben | C18: Angaben lt. abgerechneten/ nachgewiesenen Ausgaben | G18: =IF($C$3=1,IF(B36>0,Auswahlmöglichkeiten!G2,IF(B36=0,"Hinweis: Bitte geben Sie die Angaben lt. Zuwendungsbescheid/ Zuweisungsschreiben ein."))," ")
B19: Bewilligte Ausgaben (in Euro) | C19: Förderfähige Ausgaben (in Euro)
A20: Personalausgaben | C20: =SUMIF(Personalausgaben!$A$15:$A64,$C$3,Personalausgaben!$N$15:$N64) -> 0
A21: Personalausgaben VKO alt | C21: =SUMIF('Personal (VKO) alt'!$A$12:$A42,$C$3,'Personal (VKO) alt'!$N$12:$N42) -> 0
A22: Personalausgaben direkte Ausgaben | C22: =SUMIF('Personal direkte Ausgaben'!$A$13:$A43,$C$3,'Personal direkte Ausgaben'!$K$13:$K43) -> 0
A23: Personalausgaben Unternehmerlohn | C23: =SUMIF(Unternehmerlohn!$A$14:$A44,C3,Unternehmerlohn!$U$14:$U44) -> 0
A24: Indirekte Ausgaben | B24: =SUM(B20:B23)*IF($E$15=0,$B$15,$E$15) -> 0 | C24: =SUM($C$20:$C$23)*IF($E$15=0,$B$15,$E$15) -> 0
A25: Ausgaben für Dienstreisen des Projektpersonals | C25: =SUMIFS(Tabelle2[Spalte12],Tabelle2[Spalte0],$C$3,Tabelle2[Spalte3],$A$25) -> 0
A26: Ausgaben für Lehrgänge und Leistungen externer Einrichtungen | C26: =SUMIFS(Tabelle2[Spalte12],Tabelle2[Spalte0],$C$3,Tabelle2[Spalte3],$A$26) -> 0
A27: Miet- und Mietnebenausgaben für projektbedingte Räume der Teilnehmenden | C27: =SUMIFS(Tabelle2[Spalte12],Tabelle2[Spalte0],$C$3,Tabelle2[Spalte3],$A$27) -> 0
A28: Ausgaben für projektbedingte Fahrten der Teilnehmenden | C28: =SUMIFS(Tabelle2[Spalte12],Tabelle2[Spalte0],$C$3,Tabelle2[Spalte3],$A$28) -> 0
A29: sonstige Sozialabgaben für Teilnehmende | C29: =SUMIFS(Tabelle2[Spalte12],Tabelle2[Spalte0],$C$3,Tabelle2[Spalte3],$A$29) -> 0
A30: sonstige teilnahmebedingte Ausgaben | C30: =SUMIFS(Tabelle2[Spalte12],Tabelle2[Spalte0],$C$3,Tabelle2[Spalte3],$A$30) -> 0
A31: Leistungen zur Sicherung des Lebensunterhalts der Teilnehmenden (SGB II) | C31: =SUMIFS(Tabelle2[Spalte12],Tabelle2[Spalte0],$C$3,Tabelle2[Spalte3],$A$31) -> 0
A32: Miet- und Leasingausgaben für vorhabenbezogene Ausstattungsgegenstände | C32: =SUMIFS(Tabelle2[Spalte12],Tabelle2[Spalte0],$C$3,Tabelle2[Spalte3],$A$32) -> 0
A33: Ausgaben für geringwertige Wirtschaftsgüter | C33: =SUMIFS(Tabelle2[Spalte12],Tabelle2[Spalte0],$C$3,Tabelle2[Spalte3],$A$33) -> 0
A34: Ausgaben für Öffentlichkeitsarbeit | C34: =SUMIFS(Tabelle2[Spalte12],Tabelle2[Spalte0],$C$3,Tabelle2[Spalte3],$A$34) -> 0
A35: Motivationsprämie (bis zu EUR 100,00 pro Monat) | C35: =SUMIFS(Tabelle2[Spalte12],Tabelle2[Spalte0],$C$3,Tabelle2[Spalte3],$A$35) -> 0
A36: Gesamtausgaben | B36: =SUM(B20:B35) -> 0 | C36: =SUM(C20:C35) -> 0
A37: ergibt Zuwendung/ Zuweisung | B37: =SUM($B$20:$B$35)*IF($E$14=0,B14,E14) -> 0 | C37: =IF(SUM(C20:C35)*IF($E$14=0,B14,E14)>$B$37,$B$37,(SUM(C20:C35)*IF($E$14=0,B14,E14))) -> 0
A38: Eigenmittel | B38: =B36-B37 -> 0 | C38: =$C$36-$C$37 -> 0
A39: Nachzuweisende Vorauszahlung | C39: 4000
A40: noch auszuzahlender Betrag | C40: =C37-C39 -> -4000

Sheet Personalausgaben
B3: ="zahlenmäßiger Nachweis - Anlage zum Auszahlungsantrag" & " " & 'Gesamtübersicht je AZ'!$C$3 -> zahlenmäßiger Nachweis - Anlage zum Auszahlungsantrag
O5: Bitte die grau hinterlegten Felder befüllen!
B6: Zuwendungs-/Zuweisungsempfänger | F6: ='Gesamtübersicht je AZ'!$B$7 -> 0
B7: Vorhaben | F7: ='Gesamtübersicht je AZ'!$B$8 -> 0
B8: Vorgangsnummer laut Zuwendungsbescheid/ Zuweisungsschreiben | F8: ='Gesamtübersicht je AZ'!$B$9 -> 0
B10: Hinweis: Bitte beachten Sie die Regelungen im "Merkblatt zur Anwendung der Pauschalierung förderfähiger Personalausgaben in der Förderperiode 2021-2027."
B11: Dieses finden Sie ebenfalls auf unserer Homepage unter dem Reiter "Richtlinien/Merkblätter".
B12: Die Abrechnung von Personal soll nach Möglichkeit grundsätzlich auf Monatsbasis und "ohne Urlaubsabgeltung" erfolgen.
A13: lfd. Nr. AZ | B13: lfd. Nr. | C13: Name des Mitarbeiters | D13: Vorname des Mitarbeiters | E13: Abrechnungszeitraum MM/JJJJ | F13: Anteil im Projekt in % | G13: vereinbarte Stundenanzahl gem. Arbeitsvertrag | H13: Art der Abrechnung | I13: Anzahl der abzu-rechnenden Stunden je Monat | J13: Qualitäts-stufe | K13: Welche Pauschalwerte möchten Sie abrechnen? | L13: Pauschalwert | M13: abgerechnete Ausgaben nach Pauschalwerte ohne Bezug auf Std. gem. AV später ausblenden….!!!! | N13: abgerechnete Ausgaben | O13: Bemerkungen
A14: Spalte16 | B14: Spalte1 | C14: Spalte2 | D14: Spalte3 | E14: Spalte4 | F14: Spalte5 | G14: Spalte52 | H14: Spalte53 | I14: Spalte6 | J14: Spalte7 | K14: Spalte8 | L14: Spalte9 | M14: Spalte10 | N14: Spalte11 | O14: Spalte12
B15: =ROW()-14 -> 1 | L15: =IF(ISBLANK($K15),"0,00",IF(K15="Pauschalwerte ohne Urlaubsabgeltung",IF($H15="Stunden",VLOOKUP($J15,'Grundlagen VKO neu'!$A$12:$B$17,2),IF($H15="Monat",VLOOKUP($J15,'Grundlagen VKO neu'!$A$20:$B$25,2),IF($H15="Jahr",VLOOKUP($J15,'Grundlagen VKO neu'!$A$28:$B$33,2)))),IF($H15="Stunden",VLOOKUP($J15,'Grundlagen VKO neu'!$A$38:$B$43,2),IF($H15="Monat",VLOOKUP($J15,'Grundlagen VKO neu'!$A$46:$B$51,2),"Auswahl nicht möglich")))) -> 0,00 | M15: =IF(H15="Stunden",$I15*$L15,$L15) -> 0,00 | N15: =IF(AND(H15="Jahr",AND(K15="Pauschalwerte mit Urlaubsabgeltung")),"0,00",IF(H15="Stunden",($L15*$I15),((($M15/40)*$G15)*$F15))) -> 0
B16: =ROW()-14 -> 2 | L16: =IF(ISBLANK($K16),"0,00",IF(K16="Pauschalwerte ohne Urlaubsabgeltung",IF($H16="Stunden",VLOOKUP($J16,'Grundlagen VKO neu'!$A$12:$B$17,2),IF($H16="Monat",VLOOKUP($J16,'Grundlagen VKO neu'!$A$20:$B$25,2),IF($H16="Jahr",VLOOKUP($J16,'Grundlagen VKO neu'!$A$28:$B$33,2)))),IF($H16="Stunden",VLOOKUP($J16,'Grundlagen VKO neu'!$A$38:$B$43,2),IF($H16="Monat",VLOOKUP($J16,'Grundlagen VKO neu'!$A$46:$B$51,2),"Auswahl nicht möglich")))) -> 0,00 | M16: =IF(H16="Stunden",$I16*$L16,$L16) -> 0,00 | N16: =IF(AND(H16="Jahr",AND(K16="Pauschalwerte mit Urlaubsabgeltung")),"0,00",IF(H16="Stunden",($L16*$I16),((($M16/40)*$G16)*$F16))) -> 0
B17: =ROW()-14 -> 3 | L17: =IF(ISBLANK($K17),"0,00",IF(K17="Pauschalwerte ohne Urlaubsabgeltung",IF($H17="Stunden",VLOOKUP($J17,'Grundlagen VKO neu'!$A$12:$B$17,2),IF($H17="Monat",VLOOKUP($J17,'Grundlagen VKO neu'!$A$20:$B$25,2),IF($H17="Jahr",VLOOKUP($J17,'Grundlagen VKO neu'!$A$28:$B$33,2)))),IF($H17="Stunden",VLOOKUP($J17,'Grundlagen VKO neu'!$A$38:$B$43,2),IF($H17="Monat",VLOOKUP($J17,'Grundlagen VKO neu'!$A$46:$B$51,2),"Auswahl nicht möglich")))) -> 0,00 | M17: =IF(H17="Stunden",$I17*$L17,$L17) -> 0,00 | N17: =IF(AND(H17="Jahr",AND(K17="Pauschalwerte mit Urlaubsabgeltung")),"0,00",IF(H17="Stunden",($L17*$I17),((($M17/40)*$G17)*$F17))) -> 0
B18: =ROW()-14 -> 4 | L18: =IF(ISBLANK($K18),"0,00",IF(K18="Pauschalwerte ohne Urlaubsabgeltung",IF($H18="Stunden",VLOOKUP($J18,'Grundlagen VKO neu'!$A$12:$B$17,2),IF($H18="Monat",VLOOKUP($J18,'Grundlagen VKO neu'!$A$20:$B$25,2),IF($H18="Jahr",VLOOKUP($J18,'Grundlagen VKO neu'!$A$28:$B$33,2)))),IF($H18="Stunden",VLOOKUP($J18,'Grundlagen VKO neu'!$A$38:$B$43,2),IF($H18="Monat",VLOOKUP($J18,'Grundlagen VKO neu'!$A$46:$B$51,2),"Auswahl nicht möglich")))) -> 0,00 | M18: =IF(H18="Stunden",$I18*$L18,$L18) -> 0,00 | N18: =IF(AND(H18="Jahr",AND(K18="Pauschalwerte mit Urlaubsabgeltung")),"0,00",IF(H18="Stunden",($L18*$I18),((($M18/40)*$G18)*$F18))) -> 0
B19: =ROW()-14 -> 5 | L19: =IF(ISBLANK($K19),"0,00",IF(K19="Pauschalwerte ohne Urlaubsabgeltung",IF($H19="Stunden",VLOOKUP($J19,'Grundlagen VKO neu'!$A$12:$B$17,2),IF($H19="Monat",VLOOKUP($J19,'Grundlagen VKO neu'!$A$20:$B$25,2),IF($H19="Jahr",VLOOKUP($J19,'Grundlagen VKO neu'!$A$28:$B$33,2)))),IF($H19="Stunden",VLOOKUP($J19,'Grundlagen VKO neu'!$A$38:$B$43,2),IF($H19="Monat",VLOOKUP($J19,'Grundlagen VKO neu'!$A$46:$B$51,2),"Auswahl nicht möglich")))) -> 0,00 | M19: =IF(H19="Stunden",$I19*$L19,$L19) -> 0,00 | N19: =IF(AND(H19="Jahr",AND(K19="Pauschalwerte mit Urlaubsabgeltung")),"0,00",IF(H19="Stunden",($L19*$I19),((($M19/40)*$G19)*$F19))) -> 0
B20: =ROW()-14 -> 6 | L20: =IF(ISBLANK($K20),"0,00",IF(K20="Pauschalwerte ohne Urlaubsabgeltung",IF($H20="Stunden",VLOOKUP($J20,'Grundlagen VKO neu'!$A$12:$B$17,2),IF($H20="Monat",VLOOKUP($J20,'Grundlagen VKO neu'!$A$20:$B$25,2),IF($H20="Jahr",VLOOKUP($J20,'Grundlagen VKO neu'!$A$28:$B$33,2)))),IF($H20="Stunden",VLOOKUP($J20,'Grundlagen VKO neu'!$A$38:$B$43,2),IF($H20="Monat",VLOOKUP($J20,'Grundlagen VKO neu'!$A$46:$B$51,2),"Auswahl nicht möglich")))) -> 0,00 | M20: =IF(H20="Stunden",$I20*$L20,$L20) -> 0,00 | N20: =IF(AND(H20="Jahr",AND(K20="Pauschalwerte mit Urlaubsabgeltung")),"0,00",IF(H20="Stunden",($L20*$I20),((($M20/40)*$G20)*$F20))) -> 0
B21: =ROW()-14 -> 7 | L21: =IF(ISBLANK($K21),"0,00",IF(K21="Pauschalwerte ohne Urlaubsabgeltung",IF($H21="Stunden",VLOOKUP($J21,'Grundlagen VKO neu'!$A$12:$B$17,2),IF($H21="Monat",VLOOKUP($J21,'Grundlagen VKO neu'!$A$20:$B$25,2),IF($H21="Jahr",VLOOKUP($J21,'Grundlagen VKO neu'!$A$28:$B$33,2)))),IF($H21="Stunden",VLOOKUP($J21,'Grundlagen VKO neu'!$A$38:$B$43,2),IF($H21="Monat",VLOOKUP($J21,'Grundlagen VKO neu'!$A$46:$B$51,2),"Auswahl nicht möglich")))) -> 0,00 | M21: =IF(H21="Stunden",$I21*$L21,$L21) -> 0,00 | N21: =IF(AND(H21="Jahr",AND(K21="Pauschalwerte mit Urlaubsabgeltung")),"0,00",IF(H21="Stunden",($L21*$I21),((($M21/40)*$G21)*$F21))) -> 0
B22: =ROW()-14 -> 8 | L22: =IF(ISBLANK($K22),"0,00",IF(K22="Pauschalwerte ohne Urlaubsabgeltung",IF($H22="Stunden",VLOOKUP($J22,'Grundlagen VKO neu'!$A$12:$B$17,2),IF($H22="Monat",VLOOKUP($J22,'Grundlagen VKO neu'!$A$20:$B$25,2),IF($H22="Jahr",VLOOKUP($J22,'Grundlagen VKO neu'!$A$28:$B$33,2)))),IF($H22="Stunden",VLOOKUP($J22,'Grundlagen VKO neu'!$A$38:$B$43,2),IF($H22="Monat",VLOOKUP($J22,'Grundlagen VKO neu'!$A$46:$B$51,2),"Auswahl nicht möglich")))) -> 0,00 | M22: =IF(H22="Stunden",$I22*$L22,$L22) -> 0,00 | N22: =IF(AND(H22="Jahr",AND(K22="Pauschalwerte mit Urlaubsabgeltung")),"0,00",IF(H22="Stunden",($L22*$I22),((($M22/40)*$G22)*$F22))) -> 0
B23: =ROW()-14 -> 9 | L23: =IF(ISBLANK($K23),"0,00",IF(K23="Pauschalwerte ohne Urlaubsabgeltung",IF($H23="Stunden",VLOOKUP($J23,'Grundlagen VKO neu'!$A$12:$B$17,2),IF($H23="Monat",VLOOKUP($J23,'Grundlagen VKO neu'!$A$20:$B$25,2),IF($H23="Jahr",VLOOKUP($J23,'Grundlagen VKO neu'!$A$28:$B$33,2)))),IF($H23="Stunden",VLOOKUP($J23,'Grundlagen VKO neu'!$A$38:$B$43,2),IF($H23="Monat",VLOOKUP($J23,'Grundlagen VKO neu'!$A$46:$B$51,2),"Auswahl nicht möglich")))) -> 0,00 | M23: =IF(H23="Stunden",$I23*$L23,$L23) -> 0,00 | N23: =IF(AND(H23="Jahr",AND(K23="Pauschalwerte mit Urlaubsabgeltung")),"0,00",IF(H23="Stunden",($L23*$I23),((($M23/40)*$G23)*$F23))) -> 0
B24: =ROW()-14 -> 10 | L24: =IF(ISBLANK($K24),"0,00",IF(K24="Pauschalwerte ohne Urlaubsabgeltung",IF($H24="Stunden",VLOOKUP($J24,'Grundlagen VKO neu'!$A$12:$B$17,2),IF($H24="Monat",VLOOKUP($J24,'Grundlagen VKO neu'!$A$20:$B$25,2),IF($H24="Jahr",VLOOKUP($J24,'Grundlagen VKO neu'!$A$28:$B$33,2)))),IF($H24="Stunden",VLOOKUP($J24,'Grundlagen VKO neu'!$A$38:$B$43,2),IF($H24="Monat",VLOOKUP($J24,'Grundlagen VKO neu'!$A$46:$B$51,2),"Auswahl nicht möglich")))) -> 0,00 | M24: =IF(H24="Stunden",$I24*$L24,$L24) -> 0,00 | N24: =IF(AND(H24="Jahr",AND(K24="Pauschalwerte mit Urlaubsabgeltung")),"0,00",IF(H24="Stunden",($L24*$I24),((($M24/40)*$G24)*$F24))) -> 0
B25: =ROW()-14 -> 11 | L25: =IF(ISBLANK($K25),"0,00",IF(K25="Pauschalwerte ohne Urlaubsabgeltung",IF($H25="Stunden",VLOOKUP($J25,'Grundlagen VKO neu'!$A$12:$B$17,2),IF($H25="Monat",VLOOKUP($J25,'Grundlagen VKO neu'!$A$20:$B$25,2),IF($H25="Jahr",VLOOKUP($J25,'Grundlagen VKO neu'!$A$28:$B$33,2)))),IF($H25="Stunden",VLOOKUP($J25,'Grundlagen VKO neu'!$A$38:$B$43,2),IF($H25="Monat",VLOOKUP($J25,'Grundlagen VKO neu'!$A$46:$B$51,2),"Auswahl nicht möglich")))) -> 0,00 | M25: =IF(H25="Stunden",$I25*$L25,$L25) -> 0,00 | N25: =IF(AND(H25="Jahr",AND(K25="Pauschalwerte mit Urlaubsabgeltung")),"0,00",IF(H25="Stunden",($L25*$I25),((($M25/40)*$G25)*$F25))) -> 0
B26: =ROW()-14 -> 12 | L26: =IF(ISBLANK($K26),"0,00",IF(K26="Pauschalwerte ohne Urlaubsabgeltung",IF($H26="Stunden",VLOOKUP($J26,'Grundlagen VKO neu'!$A$12:$B$17,2),IF($H26="Monat",VLOOKUP($J26,'Grundlagen VKO neu'!$A$20:$B$25,2),IF($H26="Jahr",VLOOKUP($J26,'Grundlagen VKO neu'!$A$28:$B$33,2)))),IF($H26="Stunden",VLOOKUP($J26,'Grundlagen VKO neu'!$A$38:$B$43,2),IF($H26="Monat",VLOOKUP($J26,'Grundlagen VKO neu'!$A$46:$B$51,2),"Auswahl nicht möglich")))) -> 0,00 | M26: =IF(H26="Stunden",$I26*$L26,$L26) -> 0,00 | N26: =IF(AND(H26="Jahr",AND(K26="Pauschalwerte mit Urlaubsabgeltung")),"0,00",IF(H26="Stunden",($L26*$I26),((($M26/40)*$G26)*$F26))) -> 0
... B64: =ROW()-14 -> 50 | L64: =IF(ISBLANK($K64),"0,00",IF(K64="Pauschalwerte ohne Urlaubsabgeltung",IF($H64="Stunden",VLOOKUP($J64,'Grundlagen VKO neu'!$A$12:$B$17,2),IF($H64="Monat",VLOOKUP($J64,'Grundlagen VKO neu'!$A$20:$B$25,2),IF($H64="Jahr",VLOOKUP($J64,'Grundlagen VKO neu'!$A$28:$B$33,2)))),IF($H64="Stunden",VLOOKUP($J64,'Grundlagen VKO neu'!$A$38:$B$43,2),IF($H64="Monat",VLOOKUP($J64,'Grundlagen VKO neu'!$A$46:$B$51,2),"Auswahl nicht möglich")))) -> 0,00 | M64: =IF(H64="Stunden",$I64*$L64,$L64) -> 0,00 | N64: =IF(AND(H64="Jahr",AND(K64="Pauschalwerte mit Urlaubsabgeltung")),"0,00",IF(H64="Stunden",($L64*$I64),((($M64/40)*$G64)*$F64))) -> 0
L65: SUMME | M65: =SUM(M15:M64) -> 0 | N65: =SUM(N15:N64) -> 0
A66: Hinweis: Zum Hinzufügen weiterer Zeilen markieren Sie bitte eine bereits bestehende Zeile und drücken Sie gleichzeitig "Strg" und "+".

Sheet Personal (VKO) alt
B3: ="zahlenmäßiger Nachweis - Anlage zum Auszahlungsantrag" & " " & 'Gesamtübersicht je AZ'!$C$3 -> zahlenmäßiger Nachweis - Anlage zum Auszahlungsantrag
Q5: Bitte die grau hinterlegten Felder befüllen!
B6: Zuwendungs-/Zuweisungsempfänger | F6: ='Gesamtübersicht je AZ'!#REF! -> #REF!
B7: Vorhaben | F7: ='Gesamtübersicht je AZ'!$B$8 -> 0
B8: Vorgangsnummer laut Zuwendungsbescheid/ Zuweisungsschreiben | F8: ='Gesamtübersicht je AZ'!$B$9 -> 0
A10: lfd. Nr. AZ | B10: lfd. Nr. | C10: Name des Mitarbeiters | D10: Vorname des Mitarbeiters | E10: Abrechnungszeitraum MM/JJJJ | F10: Anteil im Projekt in % | G10: vereinbarte Stundenanzahl gem. Arbeitsvertrag | H10: Art der Abrechnung | I10: Anzahl der abzu-rechnenden Stunden je Monat | J10: Qualitäts-stufe | K10: Welche Pauschalwerte möchten Sie abrechnen? | L10: Pauschalwert | M10: abgerechnete Ausgaben nach Pauschalwerte ohne Bezug auf Std. gem. AV später ausblenden….!!!! | N10: abgerechnete Ausgaben | O10: förderfähige Ausgaben lt. IB | P10: Kürzungsgründe | Q10: Bearbeitungshinweise IB | R10: Prüfkriterium | S10: Risikoprüffeld | T10: Kategorisierung Fehler
A11: Spalte0 | B11: Spalte1 | C11: Spalte2 | D11: Spalte3 | E11: Spalte4 | F11: Spalte5 | G11: Spalte52 | H11: Spalte53 | I11: Spalte6 | J11: Spalte7 | K11: Spalte8 | L11: Spalte9 | M11: Spalte10 | N11: Spalte11 | O11: Spalte113 | P11: Spalte112 | Q11: Spalte12 | R11: Spalte13 | S11: Spalte14 | T11: Spalte15
B12: =ROW()-11 -> 1 | L12: =IF(ISBLANK($K12),"0,00",IF(K12="Pauschalwerte ohne Urlaubsabgeltung",IF($H12="Stunden",VLOOKUP($J12,'Grundlagen VKO alt'!$A$12:$B$17,2),IF($H12="Monat",VLOOKUP($J12,'Grundlagen VKO alt'!$A$20:$B$25,2),IF($H12="Jahr",VLOOKUP($J12,'Grundlagen VKO alt'!$A$28:$B$33,2)))),IF($H12="Stunden",VLOOKUP($J12,'Grundlagen VKO alt'!$A$38:$B$43,2),IF($H12="Monat",VLOOKUP($J12,'Grundlagen VKO alt'!$A$46:$B$51,2),"Auswahl nicht möglich")))) -> 0,00 | M12: =IF(H12="Stunden",$I12*$L12,$L12) -> 0,00 | N12: =IF(AND(H12="Jahr",AND(K12="Pauschalwerte mit Urlaubsabgeltung")),"0,00",IF(H12="Stunden",($L12*$I12),((($M12/40)*$G12)*$F12))) -> 0 | R12: Belegprüfung_erfolgt | S12: 0.1 Belegprüfung zu 100% erfolgt, da Bearbeitung vor dem 01.02.2025
B13: =ROW()-11 -> 2 | L13: =IF(ISBLANK($K13),"0,00",IF(K13="Pauschalwerte ohne Urlaubsabgeltung",IF($H13="Stunden",VLOOKUP($J13,'Grundlagen VKO alt'!$A$12:$B$17,2),IF($H13="Monat",VLOOKUP($J13,'Grundlagen VKO alt'!$A$20:$B$25,2),IF($H13="Jahr",VLOOKUP($J13,'Grundlagen VKO alt'!$A$28:$B$33,2)))),IF($H13="Stunden",VLOOKUP($J13,'Grundlagen VKO alt'!$A$38:$B$43,2),IF($H13="Monat",VLOOKUP($J13,'Grundlagen VKO alt'!$A$46:$B$51,2),"Auswahl nicht möglich")))) -> 0,00 | M13: =IF(H13="Stunden",$I13*$L13,$L13) -> 0,00 | N13: =IF(AND(H13="Jahr",AND(K13="Pauschalwerte mit Urlaubsabgeltung")),"0,00",IF(H13="Stunden",($L13*$I13),((($M13/40)*$G13)*$F13))) -> 0 | R13: Belegprüfung_erfolgt | S13: 0.2 Prüfbescheinigung
B14: =ROW()-11 -> 3 | L14: =IF(ISBLANK($K14),"0,00",IF(K14="Pauschalwerte ohne Urlaubsabgeltung",IF($H14="Stunden",VLOOKUP($J14,'Grundlagen VKO alt'!$A$12:$B$17,2),IF($H14="Monat",VLOOKUP($J14,'Grundlagen VKO alt'!$A$20:$B$25,2),IF($H14="Jahr",VLOOKUP($J14,'Grundlagen VKO alt'!$A$28:$B$33,2)))),IF($H14="Stunden",VLOOKUP($J14,'Grundlagen VKO alt'!$A$38:$B$43,2),IF($H14="Monat",VLOOKUP($J14,'Grundlagen VKO alt'!$A$46:$B$51,2),"Auswahl nicht möglich")))) -> 0,00 | M14: =IF(H14="Stunden",$I14*$L14,$L14) -> 0,00 | N14: =IF(AND(H14="Jahr",AND(K14="Pauschalwerte mit Urlaubsabgeltung")),"0,00",IF(H14="Stunden",($L14*$I14),((($M14/40)*$G14)*$F14))) -> 0
B15: =ROW()-11 -> 4 | L15: =IF(ISBLANK($K15),"0,00",IF(K15="Pauschalwerte ohne Urlaubsabgeltung",IF($H15="Stunden",VLOOKUP($J15,'Grundlagen VKO alt'!$A$12:$B$17,2),IF($H15="Monat",VLOOKUP($J15,'Grundlagen VKO alt'!$A$20:$B$25,2),IF($H15="Jahr",VLOOKUP($J15,'Grundlagen VKO alt'!$A$28:$B$33,2)))),IF($H15="Stunden",VLOOKUP($J15,'Grundlagen VKO alt'!$A$38:$B$43,2),IF($H15="Monat",VLOOKUP($J15,'Grundlagen VKO alt'!$A$46:$B$51,2),"Auswahl nicht möglich")))) -> 0,00 | M15: =IF(H15="Stunden",$I15*$L15,$L15) -> 0,00 | N15: =IF(AND(H15="Jahr",AND(K15="Pauschalwerte mit Urlaubsabgeltung")),"0,00",IF(H15="Stunden",($L15*$I15),((($M15/40)*$G15)*$F15))) -> 0 | R15: Vergabetiefenprüfung | S15: 1.1 Das entsprechende Los befindet sich derzeit in Vergabetiefenprüfung
B16: =ROW()-11 -> 5 | L16: =IF(ISBLANK($K16),"0,00",IF(K16="Pauschalwerte ohne Urlaubsabgeltung",IF($H16="Stunden",VLOOKUP($J16,'Grundlagen VKO alt'!$A$12:$B$17,2),IF($H16="Monat",VLOOKUP($J16,'Grundlagen VKO alt'!$A$20:$B$25,2),IF($H16="Jahr",VLOOKUP($J16,'Grundlagen VKO alt'!$A$28:$B$33,2)))),IF($H16="Stunden",VLOOKUP($J16,'Grundlagen VKO alt'!$A$38:$B$43,2),IF($H16="Monat",VLOOKUP($J16,'Grundlagen VKO alt'!$A$46:$B$51,2),"Auswahl nicht möglich")))) -> 0,00 | M16: =IF(H16="Stunden",$I16*$L16,$L16) -> 0,00 | N16: =IF(AND(H16="Jahr",AND(K16="Pauschalwerte mit Urlaubsabgeltung")),"0,00",IF(H16="Stunden",($L16*$I16),((($M16/40)*$G16)*$F16))) -> 0 | R16: Vergabetiefenprüfung | S16: 1.2 Vergabetiefenprüfung ist erfolgt
B17: =ROW()-11 -> 6 | L17: =IF(ISBLANK($K17),"0,00",IF(K17="Pauschalwerte ohne Urlaubsabgeltung",IF($H17="Stunden",VLOOKUP($J17,'Grundlagen VKO alt'!$A$12:$B$17,2),IF($H17="Monat",VLOOKUP($J17,'Grundlagen VKO alt'!$A$20:$B$25,2),IF($H17="Jahr",VLOOKUP($J17,'Grundlagen VKO alt'!$A$28:$B$33,2)))),IF($H17="Stunden",VLOOKUP($J17,'Grundlagen VKO alt'!$A$38:$B$43,2),IF($H17="Monat",VLOOKUP($J17,'Grundlagen VKO alt'!$A$46:$B$51,2),"Auswahl nicht möglich")))) -> 0,00 | M17: =IF(H17="Stunden",$I17*$L17,$L17) -> 0,00 | N17: =IF(AND(H17="Jahr",AND(K17="Pauschalwerte mit Urlaubsabgeltung")),"0,00",IF(H17="Stunden",($L17*$I17),((($M17/40)*$G17)*$F17))) -> 0
B18: =ROW()-11 -> 7 | L18: =IF(ISBLANK($K18),"0,00",IF(K18="Pauschalwerte ohne Urlaubsabgeltung",IF($H18="Stunden",VLOOKUP($J18,'Grundlagen VKO alt'!$A$12:$B$17,2),IF($H18="Monat",VLOOKUP($J18,'Grundlagen VKO alt'!$A$20:$B$25,2),IF($H18="Jahr",VLOOKUP($J18,'Grundlagen VKO alt'!$A$28:$B$33,2)))),IF($H18="Stunden",VLOOKUP($J18,'Grundlagen VKO alt'!$A$38:$B$43,2),IF($H18="Monat",VLOOKUP($J18,'Grundlagen VKO alt'!$A$46:$B$51,2),"Auswahl nicht möglich")))) -> 0,00 | M18: =IF(H18="Stunden",$I18*$L18,$L18) -> 0,00 | N18: =IF(AND(H18="Jahr",AND(K18="Pauschalwerte mit Urlaubsabgeltung")),"0,00",IF(H18="Stunden",($L18*$I18),((($M18/40)*$G18)*$F18))) -> 0 | R18: risikobasierte_Kriterien | S18: 2.1.1 Die Angaben im zahlenmäßigen Nachweis sind unvollständig.
B19: =ROW()-11 -> 8 | L19: =IF(ISBLANK($K19),"0,00",IF(K19="Pauschalwerte ohne Urlaubsabgeltung",IF($H19="Stunden",VLOOKUP($J19,'Grundlagen VKO alt'!$A$12:$B$17,2),IF($H19="Monat",VLOOKUP($J19,'Grundlagen VKO alt'!$A$20:$B$25,2),IF($H19="Jahr",VLOOKUP($J19,'Grundlagen VKO alt'!$A$28:$B$33,2)))),IF($H19="Stunden",VLOOKUP($J19,'Grundlagen VKO alt'!$A$38:$B$43,2),IF($H19="Monat",VLOOKUP($J19,'Grundlagen VKO alt'!$A$46:$B$51,2),"Auswahl nicht möglich")))) -> 0,00 | M19: =IF(H19="Stunden",$I19*$L19,$L19) -> 0,00 | N19: =IF(AND(H19="Jahr",AND(K19="Pauschalwerte mit Urlaubsabgeltung")),"0,00",IF(H19="Stunden",($L19*$I19),((($M19/40)*$G19)*$F19))) -> 0 | R19: risikobasierte_Kriterien | S19: 2.1.2 Die Angaben im zahlenmäßigen Nachweis sind nicht plausibel.
B20: =ROW()-11 -> 9 | L20: =IF(ISBLANK($K20),"0,00",IF(K20="Pauschalwerte ohne Urlaubsabgeltung",IF($H20="Stunden",VLOOKUP($J20,'Grundlagen VKO alt'!$A$12:$B$17,2),IF($H20="Monat",VLOOKUP($J20,'Grundlagen VKO alt'!$A$20:$B$25,2),IF($H20="Jahr",VLOOKUP($J20,'Grundlagen VKO alt'!$A$28:$B$33,2)))),IF($H20="Stunden",VLOOKUP($J20,'Grundlagen VKO alt'!$A$38:$B$43,2),IF($H20="Monat",VLOOKUP($J20,'Grundlagen VKO alt'!$A$46:$B$51,2),"Auswahl nicht möglich")))) -> 0,00 | M20: =IF(H20="Stunden",$I20*$L20,$L20) -> 0,00 | N20: =IF(AND(H20="Jahr",AND(K20="Pauschalwerte mit Urlaubsabgeltung")),"0,00",IF(H20="Stunden",($L20*$I20),((($M20/40)*$G20)*$F20))) -> 0 | R20: risikobasierte_Kriterien | S20: 2.1.3 Die Angaben des Zahlungsempfängers / Rechnungslegers wecken Zweifel an der rechtmäßigen Verwendung der Mittel.
B21: =ROW()-11 -> 10 | L21: =IF(ISBLANK($K21),"0,00",IF(K21="Pauschalwerte ohne Urlaubsabgeltung",IF($H21="Stunden",VLOOKUP($J21,'Grundlagen VKO alt'!$A$12:$B$17,2),IF($H21="Monat",VLOOKUP($J21,'Grundlagen VKO alt'!$A$20:$B$25,2),IF($H21="Jahr",VLOOKUP($J21,'Grundlagen VKO alt'!$A$28:$B$33,2)))),IF($H21="Stunden",VLOOKUP($J21,'Grundlagen VKO alt'!$A$38:$B$43,2),IF($H21="Monat",VLOOKUP($J21,'Grundlagen VKO alt'!$A$46:$B$51,2),"Auswahl nicht möglich")))) -> 0,00 | M21: =IF(H21="Stunden",$I21*$L21,$L21) -> 0,00 | N21: =IF(AND(H21="Jahr",AND(K21="Pauschalwerte mit Urlaubsabgeltung")),"0,00",IF(H21="Stunden",($L21*$I21),((($M21/40)*$G21)*$F21))) -> 0 | R21: risikobasierte_Kriterien | S21: 2.1.4 Aus den Angaben des Zuwendungsempfängers im Verwendungszweck des zahlenmäßigen Nachweises ergeben sich Hinweise auf einen unklaren Bezug zum Vorhaben.
B22: =ROW()-11 -> 11 | L22: =IF(ISBLANK($K22),"0,00",IF(K22="Pauschalwerte ohne Urlaubsabgeltung",IF($H22="Stunden",VLOOKUP($J22,'Grundlagen VKO alt'!$A$12:$B$17,2),IF($H22="Monat",VLOOKUP($J22,'Grundlagen VKO alt'!$A$20:$B$25,2),IF($H22="Jahr",VLOOKUP($J22,'Grundlagen VKO alt'!$A$28:$B$33,2)))),IF($H22="Stunden",VLOOKUP($J22,'Grundlagen VKO alt'!$A$38:$B$43,2),IF($H22="Monat",VLOOKUP($J22,'Grundlagen VKO alt'!$A$46:$B$51,2),"Auswahl nicht möglich")))) -> 0,00 | M22: =IF(H22="Stunden",$I22*$L22,$L22) -> 0,00 | N22: =IF(AND(H22="Jahr",AND(K22="Pauschalwerte mit Urlaubsabgeltung")),"0,00",IF(H22="Stunden",($L22*$I22),((($M22/40)*$G22)*$F22))) -> 0 | R22: risikobasierte_Kriterien | S22: 2.1.5 Aus den Angaben des Zuwendungsempfängers im Verwendungszweck des zahlenmäßigen Nachweises ergeben sich Hinweise auf eine Nichtförderfähigkeit der Ausgaben.
B23: =ROW()-11 -> 12 | L23: =IF(ISBLANK($K23),"0,00",IF(K23="Pauschalwerte ohne Urlaubsabgeltung",IF($H23="Stunden",VLOOKUP($J23,'Grundlagen VKO alt'!$A$12:$B$17,2),IF($H23="Monat",VLOOKUP($J23,'Grundlagen VKO alt'!$A$20:$B$25,2),IF($H23="Jahr",VLOOKUP($J23,'Grundlagen VKO alt'!$A$28:$B$33,2)))),IF($H23="Stunden",VLOOKUP($J23,'Grundlagen VKO alt'!$A$38:$B$43,2),IF($H23="Monat",VLOOKUP($J23,'Grundlagen VKO alt'!$A$46:$B$51,2),"Auswahl nicht möglich")))) -> 0,00 | M23: =IF(H23="Stunden",$I23*$L23,$L23) -> 0,00 | N23: =IF(AND(H23="Jahr",AND(K23="Pauschalwerte mit Urlaubsabgeltung")),"0,00",IF(H23="Stunden",($L23*$I23),((($M23/40)*$G23)*$F23))) -> 0 | R23: risikobasierte_Kriterien | S23: 2.1.6 Das Rechnungsdatum liegt im engen zeitlichen Zusammenhang mit dem Vorhabenbeginn (vorzeitiger MB).
B24: =ROW()-11 -> 13 | L24: =IF(ISBLANK($K24),"0,00",IF(K24="Pauschalwerte ohne Urlaubsabgeltung",IF($H24="Stunden",VLOOKUP($J24,'Grundlagen VKO alt'!$A$12:$B$17,2),IF($H24="Monat",VLOOKUP($J24,'Grundlagen VKO alt'!$A$20:$B$25,2),IF($H24="Jahr",VLOOKUP($J24,'Grundlagen VKO alt'!$A$28:$B$33,2)))),IF($H24="Stunden",VLOOKUP($J24,'Grundlagen VKO alt'!$A$38:$B$43,2),IF($H24="Monat",VLOOKUP($J24,'Grundlagen VKO alt'!$A$46:$B$51,2),"Auswahl nicht möglich")))) -> 0,00 | M24: =IF(H24="Stunden",$I24*$L24,$L24) -> 0,00 | N24: =IF(AND(H24="Jahr",AND(K24="Pauschalwerte mit Urlaubsabgeltung")),"0,00",IF(H24="Stunden",($L24*$I24),((($M24/40)*$G24)*$F24))) -> 0 | R24: risikobasierte_Kriterien | S24: 2.1.7 Der Zahlungsbetrag weicht vom Rechnungsbetrag ab.
B25: =ROW()-11 -> 14 | L25: =IF(ISBLANK($K25),"0,00",IF(K25="Pauschalwerte ohne Urlaubsabgeltung",IF($H25="Stunden",VLOOKUP($J25,'Grundlagen VKO alt'!$A$12:$B$17,2),IF($H25="Monat",VLOOKUP($J25,'Grundlagen VKO alt'!$A$20:$B$25,2),IF($H25="Jahr",VLOOKUP($J25,'Grundlagen VKO alt'!$A$28:$B$33,2)))),IF($H25="Stunden",VLOOKUP($J25,'Grundlagen VKO alt'!$A$38:$B$43,2),IF($H25="Monat",VLOOKUP($J25,'Grundlagen VKO alt'!$A$46:$B$51,2),"Auswahl nicht möglich")))) -> 0,00 | M25: =IF(H25="Stunden",$I25*$L25,$L25) -> 0,00 | N25: =IF(AND(H25="Jahr",AND(K25="Pauschalwerte mit Urlaubsabgeltung")),"0,00",IF(H25="Stunden",($L25*$I25),((($M25/40)*$G25)*$F25))) -> 0 | R25: risikobasierte_Kriterien | S25: 2.1.8 Ausgaben-Kostengruppe war nicht Antragsgegenstand, bzw. Gegenstand eines Änderungsantrages
B26: =ROW()-11 -> 15 | L26: =IF(ISBLANK($K26),"0,00",IF(K26="Pauschalwerte ohne Urlaubsabgeltung",IF($H26="Stunden",VLOOKUP($J26,'Grundlagen VKO alt'!$A$12:$B$17,2),IF($H26="Monat",VLOOKUP($J26,'Grundlagen VKO alt'!$A$20:$B$25,2),IF($H26="Jahr",VLOOKUP($J26,'Grundlagen VKO alt'!$A$28:$B$33,2)))),IF($H26="Stunden",VLOOKUP($J26,'Grundlagen VKO alt'!$A$38:$B$43,2),IF($H26="Monat",VLOOKUP($J26,'Grundlagen VKO alt'!$A$46:$B$51,2),"Auswahl nicht möglich")))) -> 0,00 | M26: =IF(H26="Stunden",$I26*$L26,$L26) -> 0,00 | N26: =IF(AND(H26="Jahr",AND(K26="Pauschalwerte mit Urlaubsabgeltung")),"0,00",IF(H26="Stunden",($L26*$I26),((($M26/40)*$G26)*$F26))) -> 0 | R26: risikobasierte_Kriterien | S26: 2.1.9 Finanzierungsbaustein (Mietkauf, Leasing o.ä.) nicht Antragsgegenstand, bzw. Gegenstand eines Änderungsantrages
B27: =ROW()-11 -> 16 | L27: =IF(ISBLANK($K27),"0,00",IF(K27="Pauschalwerte ohne Urlaubsabgeltung",IF($H27="Stunden",VLOOKUP($J27,'Grundlagen VKO alt'!$A$12:$B$17,2),IF($H27="Monat",VLOOKUP($J27,'Grundlagen VKO alt'!$A$20:$B$25,2),IF($H27="Jahr",VLOOKUP($J27,'Grundlagen VKO alt'!$A$28:$B$33,2)))),IF($H27="Stunden",VLOOKUP($J27,'Grundlagen VKO alt'!$A$38:$B$43,2),IF($H27="Monat",VLOOKUP($J27,'Grundlagen VKO alt'!$A$46:$B$51,2),"Auswahl nicht möglich")))) -> 0,00 | M27: =IF(H27="Stunden",$I27*$L27,$L27) -> 0,00 | N27: =IF(AND(H27="Jahr",AND(K27="Pauschalwerte mit Urlaubsabgeltung")),"0,00",IF(H27="Stunden",($L27*$I27),((($M27/40)*$G27)*$F27))) -> 0 | R27: risikobasierte_Kriterien | S27: 2.1.10 Sonstige Auffälligkeiten (Sachausgaben)
B28: =ROW()-11 -> 17 | L28: =IF(ISBLANK($K28),"0,00",IF(K28="Pauschalwerte ohne Urlaubsabgeltung",IF($H28="Stunden",VLOOKUP($J28,'Grundlagen VKO alt'!$A$12:$B$17,2),IF($H28="Monat",VLOOKUP($J28,'Grundlagen VKO alt'!$A$20:$B$25,2),IF($H28="Jahr",VLOOKUP($J28,'Grundlagen VKO alt'!$A$28:$B$33,2)))),IF($H28="Stunden",VLOOKUP($J28,'Grundlagen VKO alt'!$A$38:$B$43,2),IF($H28="Monat",VLOOKUP($J28,'Grundlagen VKO alt'!$A$46:$B$51,2),"Auswahl nicht möglich")))) -> 0,00 | M28: =IF(H28="Stunden",$I28*$L28,$L28) -> 0,00 | N28: =IF(AND(H28="Jahr",AND(K28="Pauschalwerte mit Urlaubsabgeltung")),"0,00",IF(H28="Stunden",($L28*$I28),((($M28/40)*$G28)*$F28))) -> 0 | R28: risikobasierte_Kriterien | S28: 2.2.1 Die Angaben im zahlenmäßigen Nachweis sind unvollständig.
B29: =ROW()-11 -> 18 | L29: =IF(ISBLANK($K29),"0,00",IF(K29="Pauschalwerte ohne Urlaubsabgeltung",IF($H29="Stunden",VLOOKUP($J29,'Grundlagen VKO alt'!$A$12:$B$17,2),IF($H29="Monat",VLOOKUP($J29,'Grundlagen VKO alt'!$A$20:$B$25,2),IF($H29="Jahr",VLOOKUP($J29,'Grundlagen VKO alt'!$A$28:$B$33,2)))),IF($H29="Stunden",VLOOKUP($J29,'Grundlagen VKO alt'!$A$38:$B$43,2),IF($H29="Monat",VLOOKUP($J29,'Grundlagen VKO alt'!$A$46:$B$51,2),"Auswahl nicht möglich")))) -> 0,00 | M29: =IF(H29="Stunden",$I29*$L29,$L29) -> 0,00 | N29: =IF(AND(H29="Jahr",AND(K29="Pauschalwerte mit Urlaubsabgeltung")),"0,00",IF(H29="Stunden",($L29*$I29),((($M29/40)*$G29)*$F29))) -> 0 | R29: risikobasierte_Kriterien | S29: 2.2.2 Die Angaben im zahlenmäßigen Nachweis sind nicht plausibel.
... B32: =ROW()-11 -> 21 | L32: =IF(ISBLANK($K32),"0,00",IF(K32="Pauschalwerte ohne Urlaubsabgeltung",IF($H32="Stunden",VLOOKUP($J32,'Grundlagen VKO alt'!$A$12:$B$17,2),IF($H32="Monat",VLOOKUP($J32,'Grundlagen VKO alt'!$A$20:$B$25,2),IF($H32="Jahr",VLOOKUP($J32,'Grundlagen VKO alt'!$A$28:$B$33,2)))),IF($H32="Stunden",VLOOKUP($J32,'Grundlagen VKO alt'!$A$38:$B$43,2),IF($H32="Monat",VLOOKUP($J32,'Grundlagen VKO alt'!$A$46:$B$51,2),"Auswahl nicht möglich")))) -> 0,00 | M32: =IF(H32="Stunden",$I32*$L32,$L32) -> 0,00 | N32: =IF(AND(H32="Jahr",AND(K32="Pauschalwerte mit Urlaubsabgeltung")),"0,00",IF(H32="Stunden",($L32*$I32),((($M32/40)*$G32)*$F32))) -> 0 | R32: risikobasierte_Kriterien | S32: 2.2.5 Sonstige Auffälligkeiten
B33: =ROW()-11 -> 22 | L33: =IF(ISBLANK($K33),"0,00",IF(K33="Pauschalwerte ohne Urlaubsabgeltung",IF($H33="Stunden",VLOOKUP($J33,'Grundlagen VKO alt'!$A$12:$B$17,2),IF($H33="Monat",VLOOKUP($J33,'Grundlagen VKO alt'!$A$20:$B$25,2),IF($H33="Jahr",VLOOKUP($J33,'Grundlagen VKO alt'!$A$28:$B$33,2)))),IF($H33="Stunden",VLOOKUP($J33,'Grundlagen VKO alt'!$A$38:$B$43,2),IF($H33="Monat",VLOOKUP($J33,'Grundlagen VKO alt'!$A$46:$B$51,2),"Auswahl nicht möglich")))) -> 0,00 | M33: =IF(H33="Stunden",$I33*$L33,$L33) -> 0,00 | N33: =IF(AND(H33="Jahr",AND(K33="Pauschalwerte mit Urlaubsabgeltung")),"0,00",IF(H33="Stunden",($L33*$I33),((($M33/40)*$G33)*$F33))) -> 0
B34: =ROW()-11 -> 23 | L34: =IF(ISBLANK($K34),"0,00",IF(K34="Pauschalwerte ohne Urlaubsabgeltung",IF($H34="Stunden",VLOOKUP($J34,'Grundlagen VKO alt'!$A$12:$B$17,2),IF($H34="Monat",VLOOKUP($J34,'Grundlagen VKO alt'!$A$20:$B$25,2),IF($H34="Jahr",VLOOKUP($J34,'Grundlagen VKO alt'!$A$28:$B$33,2)))),IF($H34="Stunden",VLOOKUP($J34,'Grundlagen VKO alt'!$A$38:$B$43,2),IF($H34="Monat",VLOOKUP($J34,'Grundlagen VKO alt'!$A$46:$B$51,2),"Auswahl nicht möglich")))) -> 0,00 | M34: =IF(H34="Stunden",$I34*$L34,$L34) -> 0,00 | N34: =IF(AND(H34="Jahr",AND(K34="Pauschalwerte mit Urlaubsabgeltung")),"0,00",IF(H34="Stunden",($L34*$I34),((($M34/40)*$G34)*$F34))) -> 0 | R34: risikobehaftete_Ausgabenkategorien | S34: Test 1
B35: =ROW()-11 -> 24 | L35: =IF(ISBLANK($K35),"0,00",IF(K35="Pauschalwerte ohne Urlaubsabgeltung",IF($H35="Stunden",VLOOKUP($J35,'Grundlagen VKO alt'!$A$12:$B$17,2),IF($H35="Monat",VLOOKUP($J35,'Grundlagen VKO alt'!$A$20:$B$25,2),IF($H35="Jahr",VLOOKUP($J35,'Grundlagen VKO alt'!$A$28:$B$33,2)))),IF($H35="Stunden",VLOOKUP($J35,'Grundlagen VKO alt'!$A$38:$B$43,2),IF($H35="Monat",VLOOKUP($J35,'Grundlagen VKO alt'!$A$46:$B$51,2),"Auswahl nicht möglich")))) -> 0,00 | M35: =IF(H35="Stunden",$I35*$L35,$L35) -> 0,00 | N35: =IF(AND(H35="Jahr",AND(K35="Pauschalwerte mit Urlaubsabgeltung")),"0,00",IF(H35="Stunden",($L35*$I35),((($M35/40)*$G35)*$F35))) -> 0 | R35: risikobehaftete_Ausgabenkategorien | S35: Test 2
B36: =ROW()-11 -> 25 | L36: =IF(ISBLANK($K36),"0,00",IF(K36="Pauschalwerte ohne Urlaubsabgeltung",IF($H36="Stunden",VLOOKUP($J36,'Grundlagen VKO alt'!$A$12:$B$17,2),IF($H36="Monat",VLOOKUP($J36,'Grundlagen VKO alt'!$A$20:$B$25,2),IF($H36="Jahr",VLOOKUP($J36,'Grundlagen VKO alt'!$A$28:$B$33,2)))),IF($H36="Stunden",VLOOKUP($J36,'Grundlagen VKO alt'!$A$38:$B$43,2),IF($H36="Monat",VLOOKUP($J36,'Grundlagen VKO alt'!$A$46:$B$51,2),"Auswahl nicht möglich")))) -> 0,00 | M36: =IF(H36="Stunden",$I36*$L36,$L36) -> 0,00 | N36: =IF(AND(H36="Jahr",AND(K36="Pauschalwerte mit Urlaubsabgeltung")),"0,00",IF(H36="Stunden",($L36*$I36),((($M36/40)*$G36)*$F36))) -> 0
B37: =ROW()-11 -> 26 | L37: =IF(ISBLANK($K37),"0,00",IF(K37="Pauschalwerte ohne Urlaubsabgeltung",IF($H37="Stunden",VLOOKUP($J37,'Grundlagen VKO alt'!$A$12:$B$17,2),IF($H37="Monat",VLOOKUP($J37,'Grundlagen VKO alt'!$A$20:$B$25,2),IF($H37="Jahr",VLOOKUP($J37,'Grundlagen VKO alt'!$A$28:$B$33,2)))),IF($H37="Stunden",VLOOKUP($J37,'Grundlagen VKO alt'!$A$38:$B$43,2),IF($H37="Monat",VLOOKUP($J37,'Grundlagen VKO alt'!$A$46:$B$51,2),"Auswahl nicht möglich")))) -> 0,00 | M37: =IF(H37="Stunden",$I37*$L37,$L37) -> 0,00 | N37: =IF(AND(H37="Jahr",AND(K37="Pauschalwerte mit Urlaubsabgeltung")),"0,00",IF(H37="Stunden",($L37*$I37),((($M37/40)*$G37)*$F37))) -> 0 | R37: zahlenbasierte_Kriterien | S37: 3.1 Auswahl wertmäßig größte Position aus jeder Ausgaben- bzw. Kostengruppe
B38: =ROW()-11 -> 27 | L38: =IF(ISBLANK($K38),"0,00",IF(K38="Pauschalwerte ohne Urlaubsabgeltung",IF($H38="Stunden",VLOOKUP($J38,'Grundlagen VKO alt'!$A$12:$B$17,2),IF($H38="Monat",VLOOKUP($J38,'Grundlagen VKO alt'!$A$20:$B$25,2),IF($H38="Jahr",VLOOKUP($J38,'Grundlagen VKO alt'!$A$28:$B$33,2)))),IF($H38="Stunden",VLOOKUP($J38,'Grundlagen VKO alt'!$A$38:$B$43,2),IF($H38="Monat",VLOOKUP($J38,'Grundlagen VKO alt'!$A$46:$B$51,2),"Auswahl nicht möglich")))) -> 0,00 | M38: =IF(H38="Stunden",$I38*$L38,$L38) -> 0,00 | N38: =IF(AND(H38="Jahr",AND(K38="Pauschalwerte mit Urlaubsabgeltung")),"0,00",IF(H38="Stunden",($L38*$I38),((($M38/40)*$G38)*$F38))) -> 0 | R38: zahlenbasierte_Kriterien | S38: 3.2 Auswahl wertmäßig zweitgrößte Position aus jeder Ausgaben- bzw. Kostengruppe.
B39: =ROW()-11 -> 28 | L39: =IF(ISBLANK($K39),"0,00",IF(K39="Pauschalwerte ohne Urlaubsabgeltung",IF($H39="Stunden",VLOOKUP($J39,'Grundlagen VKO alt'!$A$12:$B$17,2),IF($H39="Monat",VLOOKUP($J39,'Grundlagen VKO alt'!$A$20:$B$25,2),IF($H39="Jahr",VLOOKUP($J39,'Grundlagen VKO alt'!$A$28:$B$33,2)))),IF($H39="Stunden",VLOOKUP($J39,'Grundlagen VKO alt'!$A$38:$B$43,2),IF($H39="Monat",VLOOKUP($J39,'Grundlagen VKO alt'!$A$46:$B$51,2),"Auswahl nicht möglich")))) -> 0,00 | M39: =IF(H39="Stunden",$I39*$L39,$L39) -> 0,00 | N39: =IF(AND(H39="Jahr",AND(K39="Pauschalwerte mit Urlaubsabgeltung")),"0,00",IF(H39="Stunden",($L39*$I39),((($M39/40)*$G39)*$F39))) -> 0 | R39: zahlenbasierte_Kriterien | S39: 3.3 Auswahl wertmäßig drittgrößte Position aus jeder Ausgaben- bzw. Kostengruppe.
B40: =ROW()-11 -> 29 | L40: =IF(ISBLANK($K40),"0,00",IF(K40="Pauschalwerte ohne Urlaubsabgeltung",IF($H40="Stunden",VLOOKUP($J40,'Grundlagen VKO alt'!$A$12:$B$17,2),IF($H40="Monat",VLOOKUP($J40,'Grundlagen VKO alt'!$A$20:$B$25,2),IF($H40="Jahr",VLOOKUP($J40,'Grundlagen VKO alt'!$A$28:$B$33,2)))),IF($H40="Stunden",VLOOKUP($J40,'Grundlagen VKO alt'!$A$38:$B$43,2),IF($H40="Monat",VLOOKUP($J40,'Grundlagen VKO alt'!$A$46:$B$51,2),"Auswahl nicht möglich")))) -> 0,00 | M40: =IF(H40="Stunden",$I40*$L40,$L40) -> 0,00 | N40: =IF(AND(H40="Jahr",AND(K40="Pauschalwerte mit Urlaubsabgeltung")),"0,00",IF(H40="Stunden",($L40*$I40),((($M40/40)*$G40)*$F40))) -> 0 | R40: zahlenbasierte_Kriterien | S40: 3.4 Auswahl wertmäßig nächstgrößte Position ab der viertgrößten aus jeder Ausgaben bzw. Kostenkategorie
B41: =ROW()-11 -> 30 | L41: =IF(ISBLANK($K41),"0,00",IF(K41="Pauschalwerte ohne Urlaubsabgeltung",IF($H41="Stunden",VLOOKUP($J41,'Grundlagen VKO alt'!$A$12:$B$17,2),IF($H41="Monat",VLOOKUP($J41,'Grundlagen VKO alt'!$A$20:$B$25,2),IF($H41="Jahr",VLOOKUP($J41,'Grundlagen VKO alt'!$A$28:$B$33,2)))),IF($H41="Stunden",VLOOKUP($J41,'Grundlagen VKO alt'!$A$38:$B$43,2),IF($H41="Monat",VLOOKUP($J41,'Grundlagen VKO alt'!$A$46:$B$51,2),"Auswahl nicht möglich")))) -> 0,00 | M41: =IF(H41="Stunden",$I41*$L41,$L41) -> 0,00 | N41: =IF(AND(H41="Jahr",AND(K41="Pauschalwerte mit Urlaubsabgeltung")),"0,00",IF(H41="Stunden",($L41*$I41),((($M41/40)*$G41)*$F41))) -> 0
B42: =ROW()-11 -> 31 | L42: =IF(ISBLANK($K42),"0,00",IF(K42="Pauschalwerte ohne Urlaubsabgeltung",IF($H42="Stunden",VLOOKUP($J42,'Grundlagen VKO alt'!$A$12:$B$17,2),IF($H42="Monat",VLOOKUP($J42,'Grundlagen VKO alt'!$A$20:$B$25,2),IF($H42="Jahr",VLOOKUP($J42,'Grundlagen VKO alt'!$A$28:$B$33,2)))),IF($H42="Stunden",VLOOKUP($J42,'Grundlagen VKO alt'!$A$38:$B$43,2),IF($H42="Monat",VLOOKUP($J42,'Grundlagen VKO alt'!$A$46:$B$51,2),"Auswahl nicht möglich")))) -> 0,00 | M42: =IF(H42="Stunden",$I42*$L42,$L42) -> 0,00 | N42: =IF(AND(H42="Jahr",AND(K42="Pauschalwerte mit Urlaubsabgeltung")),"0,00",IF(H42="Stunden",($L42*$I42),((($M42/40)*$G42)*$F42))) -> 0 | R42: Ausweitung_Stichprobe
L43: SUMME | M43: =SUM(M12:M42) -> 0 | N43: =SUM(N12:N42) -> 0 | O43: =SUM(O12:O42) -> 0

Sheet Personal direkte Ausgaben
B3: ="zahlenmäßiger Nachweis - Anlage zum Auszahlungsantrag" & " " & 'Gesamtübersicht je AZ'!$C$3 -> zahlenmäßiger Nachweis - Anlage zum Auszahlungsantrag
N5: Bitte die grau hinterlegten Felder befüllen!
B6: Zuwendungs-/Zuweisungsempfänger | E6: ='Gesamtübersicht je AZ'!#REF! -> #REF!
B7: Vorhaben | E7: ='Gesamtübersicht je AZ'!$B$8 -> 0
B8: Vorgangsnummer laut Zuwendungsbescheid/ Zuweisungsschreiben | E8: ='Gesamtübersicht je AZ'!$B$9 -> 0
A10: lfd. Nr. AZ | B10: lfd. Nr. | C10: Name des Mitarbeiters | D10: Vorname des Mitarbeiters | E10: Art der Zahlung bzw. Gehaltsbestandteil * | F10: Abrechnungszeitraum MM/JJJJ | G10: Anteil im Vorhaben in % | H10: förderfähige Stunden, die ausschließlich für das Vorhaben getätigt wurden lt. Stundennachweis | I10: Betrag ** | J10: Zahlungsdatum | K10: förderfähige Ausgaben lt. Kunde | L10: förderfähige Ausgaben lt. IB | M10: Kürzungsgründe | N10: Bearbeitungshinweise IB | O10: Prüfkriterium | P10: Risikoprüffeld | Q10: Kategorisierung Fehler
I11: (in Euro) | K11: (in Euro) | L11: (in Euro)
A12: Spalte1 | B12: Spalte2 | C12: Spalte3 | D12: Spalte4 | E12: Spalte5 | F12: Spalte6 | G12: Spalte7 | H12: Spalte8 | I12: Spalte9 | J12: Spalte10 | K12: Spalte11 | L12: Spalte12 | M12: Spalte112 | N12: Spalte13 | O12: Spalte14 | P12: Spalte15 | Q12: Spalte16
B13: =ROW()-12 -> 1 | K13: =I13 -> 0 | O13: Belegprüfung_erfolgt | P13: 0.1 Belegprüfung zu 100% erfolgt, da Bearbeitung vor dem 01.02.2025
B14: =ROW()-12 -> 2 | K14: =I14 -> 0 | O14: Belegprüfung_erfolgt | P14: 0.2 Prüfbescheinigung
B15: =ROW()-12 -> 3 | K15: =I15 -> 0
B16: =ROW()-12 -> 4 | K16: =I16 -> 0 | O16: Vergabetiefenprüfung | P16: 1.1 Das entsprechende Los befindet sich derzeit in Vergabetiefenprüfung
B17: =ROW()-12 -> 5 | K17: =I17 -> 0 | O17: Vergabetiefenprüfung | P17: 1.2 Vergabetiefenprüfung ist erfolgt
B18: =ROW()-12 -> 6 | K18: =I18 -> 0
B19: =ROW()-12 -> 7 | K19: =I19 -> 0 | O19: risikobasierte_Kriterien | P19: 2.1.1 Die Angaben im zahlenmäßigen Nachweis sind unvollständig.
B20: =ROW()-12 -> 8 | K20: =I20 -> 0 | O20: risikobasierte_Kriterien | P20: 2.1.2 Die Angaben im zahlenmäßigen Nachweis sind nicht plausibel.
B21: =ROW()-12 -> 9 | K21: =I21 -> 0 | O21: risikobasierte_Kriterien | P21: 2.1.3 Die Angaben des Zahlungsempfängers / Rechnungslegers wecken Zweifel an der rechtmäßigen Verwendung der Mittel.
B22: =ROW()-12 -> 10 | K22: =I22 -> 0 | O22: risikobasierte_Kriterien | P22: 2.1.4 Aus den Angaben des Zuwendungsempfängers im Verwendungszweck des zahlenmäßigen Nachweises ergeben sich Hinweise auf einen unklaren Bezug zum Vorhaben.
B23: =ROW()-12 -> 11 | K23: =I23 -> 0 | O23: risikobasierte_Kriterien | P23: 2.1.5 Aus den Angaben des Zuwendungsempfängers im Verwendungszweck des zahlenmäßigen Nachweises ergeben sich Hinweise auf eine Nichtförderfähigkeit der Ausgaben.
B24: =ROW()-12 -> 12 | K24: =I24 -> 0 | O24: risikobasierte_Kriterien | P24: 2.1.6 Das Rechnungsdatum liegt im engen zeitlichen Zusammenhang mit dem Vorhabenbeginn (vorzeitiger MB).
B25: =ROW()-12 -> 13 | K25: =I25 -> 0 | O25: risikobasierte_Kriterien | P25: 2.1.7 Der Zahlungsbetrag weicht vom Rechnungsbetrag ab.
B26: =ROW()-12 -> 14 | K26: =I26 -> 0 | O26: risikobasierte_Kriterien | P26: 2.1.8 Ausgaben-Kostengruppe war nicht Antragsgegenstand, bzw. Gegenstand eines Änderungsantrages
B27: =ROW()-12 -> 15 | K27: =I27 -> 0 | O27: risikobasierte_Kriterien | P27: 2.1.9 Finanzierungsbaustein (Mietkauf, Leasing o.ä.) nicht Antragsgegenstand, bzw. Gegenstand eines Änderungsantrages
B28: =ROW()-12 -> 16 | K28: =I28 -> 0 | O28: risikobasierte_Kriterien | P28: 2.1.10 Sonstige Auffälligkeiten (Sachausgaben)
B29: =ROW()-12 -> 17 | K29: =I29 -> 0 | O29: risikobasierte_Kriterien | P29: 2.2.1 Die Angaben im zahlenmäßigen Nachweis sind unvollständig.
B30: =ROW()-12 -> 18 | K30: =I30 -> 0 | O30: risikobasierte_Kriterien | P30: 2.2.2 Die Angaben im zahlenmäßigen Nachweis sind nicht plausibel.
... B33: =ROW()-12 -> 21 | K33: =I33 -> 0 | O33: risikobasierte_Kriterien | P33: 2.2.5 Sonstige Auffälligkeiten
B34: =ROW()-12 -> 22 | K34: =I34 -> 0
B35: =ROW()-12 -> 23 | K35: =I35 -> 0 | O35: risikobehaftete_Ausgabenkategorien | P35: Test 1
B36: =ROW()-12 -> 24 | K36: =I36 -> 0 | O36: risikobehaftete_Ausgabenkategorien | P36: Test 2
B37: =ROW()-12 -> 25 | K37: =I37 -> 0
B38: =ROW()-12 -> 26 | K38: =I38 -> 0 | O38: zahlenbasierte_Kriterien | P38: 3.1 Auswahl wertmäßig größte Position aus jeder Ausgaben- bzw. Kostengruppe
B39: =ROW()-12 -> 27 | K39: =I39 -> 0 | O39: zahlenbasierte_Kriterien | P39: 3.2 Auswahl wertmäßig zweitgrößte Position aus jeder Ausgaben- bzw. Kostengruppe.
B40: =ROW()-12 -> 28 | K40: =I40 -> 0 | O40: zahlenbasierte_Kriterien | P40: 3.3 Auswahl wertmäßig drittgrößte Position aus jeder Ausgaben- bzw. Kostengruppe.
B41: =ROW()-12 -> 29 | K41: =I41 -> 0 | O41: zahlenbasierte_Kriterien | P41: 3.4 Auswahl wertmäßig nächstgrößte Position ab der viertgrößten aus jeder Ausgaben bzw. Kostenkategorie
B42: =ROW()-12 -> 30 | K42: =I42 -> 0
B43: =ROW()-12 -> 31 | K43: =I43 -> 0 | O43: Ausweitung_Stichprobe
H44: SUMME | I44: =SUM(I13:I43) -> 0 | K44: =SUM(K13:K43) -> 0 | L44: =SUM(L13:L43) -> 0
B46: * Anzugeben ist das reguläre Monatsgehalt. Einmal-/Sonderzahlungen sind in einer separaten Zeile aufzuführen.
B47: ** Anzugeben ist der Betrag, für den eine Förderung beansprucht wird. Förderfähig sind nur Ausgaben für Leistungen, die tatsächlich im Rahmen des Vorhabens angefallen sind. Nicht förderfähig sind insbesondere Ausgaben, die lt. Zuweisungsschreiben / Zuwendungsbescheid / Förderrichtlinie/ Fördergrundsätze ausgeschlossen sind und/oder Personal finanziell besser stellen als vergleichbare Landesbedienstete. Zu berücksichtigen sind auch evt. Erstattungen durch die Krankenkassen.

Sheet Unternehmerlohn
B3: ="zahlenmäßiger Nachweis - Anlage zum Auszahlungsantrag" & " " & 'Gesamtübersicht je AZ'!$C$3 -> zahlenmäßiger Nachweis - Anlage zum Auszahlungsantrag
B5: Zuwendungsempfänger | F5: ='Gesamtübersicht je AZ'!#REF! -> #REF! | X5: Bitte die grau hinterlegten Felder befüllen!
B6: Vorhaben | F6: ='Gesamtübersicht je AZ'!$B$8 -> 0
B7: Vorgangsnummer laut Zuwendungsbescheid | F7: ='Gesamtübersicht je AZ'!$B$9 -> 0
A10: lfd. Nr. AZ | B10: lfd. Nr. | C10: Ausgabe bitte einem Netzwerkpartner zuordnen | D10: Name des Unternehmers/ Vorstands | E10: Vorname des Unternehmers/ Vorstands | F10: Abrechnungszeitraum | G10: geplante Art der Abrechnung | H10: Anteil im Projekt in % (Angaben nur vornehmen, wenn Unternehmer/ Vorstand prozentual anteilig im Projekt beschäftigt, bei Planung mit Projektstunden bitte Spalte H nutzen) | I10: abgerechnete Gesamtstunden* (nur auszufüllen, wenn Spalte F mit Stunden abgerechnet wird) | J10: Qualitäts- stufe | K10: Pauschalwert | L10: pausch. KV-Anteil | M10: pausch. PV-Anteil | N10: pausch. RV-Anteil | O10: pausch. AV-Anteil | P10: pausch. KV-Anteil | Q10: pausch. PV-Anteil | R10: pausch. RV-Anteil | S10: pausch. AV-Anteil | T10: abgerechnete Ausgaben je Abrechnungs-art | U10: abgerechnete Ausgaben | V10: förderfähige Ausgaben lt. IB | W10: Kürzungsgründe | X10: Bearbeitungshinweise IB | Y10: Prüfkriterium | Z10: Risikoprüffeld | AA10: Kategorisierung Fehler
K11: (in Euro) | L11: Liegen SV-Nachweise vor? | P11: Liegen SV-Nachweise vor? | T11: (in Euro) | U11: (in Euro) | V11: (in Euro)
L12: Bitte wählen Sie Ja/ Nein
A13: Spalte0 | B13: Spalte1 | C13: Spalte16 | D13: Spalte2 | E13: Spalte3 | F13: Spalte4 | G13: Spalte6 | H13: Spalte62 | I13: Spalte7 | J13: Spalte9 | K13: Spalte10 | L13: Spalte102 | M13: Spalte1023 | N13: Spalte1022 | O13: Spalte103 | P13: Spalte11 | Q13: Spalte12 | R13: Spalte13 | S13: Spalte14 | T13: Spalte15 | U13: Spalte17 | V13: Spalte18 | W13: Spalte112 | X13: Spalte20 | Y13: Spalte5 | Z13: Spalte8
B14: =ROW()-13 -> 1 | K14: =IF(ISBLANK($J14),"0,00",IF($G14="Stunden",VLOOKUP($J14,'Grundlage UN-Lohn'!$M$9:$R$13,2),IF($G14="Monat",VLOOKUP($J14,'Grundlage UN-Lohn'!$M$2:$R$6,2),"0,00"))) -> 0,00 | P14: =IF(ISBLANK($J14),"0,00",IF(AND($G14="Stunden",$L14="Ja"),VLOOKUP($J14,'Grundlage UN-Lohn'!$M$9:$R$13,3),IF(AND($G14="Monat",$L14="Ja"),VLOOKUP($J14,'Grundlage UN-Lohn'!$M$2:$R$6,3),"0,00"))) -> 0,00 | Q14: =IF(ISBLANK($J14),"0,00",IF(AND($G14="Stunden",$M14="Ja"),VLOOKUP($J14,'Grundlage UN-Lohn'!$M$9:$R$13,4),IF(AND($G14="Monat",$M14="Ja"),VLOOKUP($J14,'Grundlage UN-Lohn'!$M$2:$R$6,4),"0,00"))) -> 0,00 | R14: =IF(ISBLANK($J14),"0,00",IF(AND($G14="Stunden",$N14="Ja"),VLOOKUP($J14,'Grundlage UN-Lohn'!$M$9:$R$13,5),IF(AND($G14="Monat",$N14="Ja"),VLOOKUP($J14,'Grundlage UN-Lohn'!$M$2:$R$6,5),"0,00"))) -> 0,00 | S14: =IF(ISBLANK($J14),"0,00",IF(AND($G14="Stunden",$O14="Ja"),VLOOKUP($J14,'Grundlage UN-Lohn'!$M$9:$R$13,6),IF(AND($G14="Monat",$O14="Ja"),VLOOKUP($J14,'Grundlage UN-Lohn'!$M$2:$R$6,6),"0,00"))) -> 0,00 | T14: =IF(AND(L14="Nein",M14="Nein",N14="Nein",O14="Nein"),K14,ROUND(K14+(SUM(P14:S14)),0)) -> 0 | U14: =IF(G14=0,0,IF(G14="Stunden",T14*I14,IF(G14="Monat",T14*H14))) -> 0 | Y14: Belegprüfung_erfolgt | Z14: 0.1 Belegprüfung zu 100% erfolgt, da Bearbeitung vor dem 01.02.2025
B15: =ROW()-13 -> 2 | K15: =IF(ISBLANK($J15),"0,00",IF($G15="Stunden",VLOOKUP($J15,'Grundlage UN-Lohn'!$M$9:$R$13,2),IF($G15="Monat",VLOOKUP($J15,'Grundlage UN-Lohn'!$M$2:$R$6,2),"0,00"))) -> 0,00 | P15: =IF(ISBLANK($J15),"0,00",IF(AND($G15="Stunden",$L15="Ja"),VLOOKUP($J15,'Grundlage UN-Lohn'!$M$9:$R$13,3),IF(AND($G15="Monat",$L15="Ja"),VLOOKUP($J15,'Grundlage UN-Lohn'!$M$2:$R$6,3),"0,00"))) -> 0,00 | Q15: =IF(ISBLANK($J15),"0,00",IF(AND($G15="Stunden",$M15="Ja"),VLOOKUP($J15,'Grundlage UN-Lohn'!$M$9:$R$13,4),IF(AND($G15="Monat",$M15="Ja"),VLOOKUP($J15,'Grundlage UN-Lohn'!$M$2:$R$6,4),"0,00"))) -> 0,00 | R15: =IF(ISBLANK($J15),"0,00",IF(AND($G15="Stunden",$N15="Ja"),VLOOKUP($J15,'Grundlage UN-Lohn'!$M$9:$R$13,5),IF(AND($G15="Monat",$N15="Ja"),VLOOKUP($J15,'Grundlage UN-Lohn'!$M$2:$R$6,5),"0,00"))) -> 0,00 | S15: =IF(ISBLANK($J15),"0,00",IF(AND($G15="Stunden",$O15="Ja"),VLOOKUP($J15,'Grundlage UN-Lohn'!$M$9:$R$13,6),IF(AND($G15="Monat",$O15="Ja"),VLOOKUP($J15,'Grundlage UN-Lohn'!$M$2:$R$6,6),"0,00"))) -> 0,00 | T15: =IF(AND(L15="Nein",M15="Nein",N15="Nein",O15="Nein"),K15,ROUND(K15+(SUM(P15:S15)),0)) -> 0 | U15: =IF(G15=0,0,IF(G15="Stunden",T15*I15,IF(G15="Monat",T15*H15))) -> 0 | Y15: Belegprüfung_erfolgt | Z15: 0.2 Prüfbescheinigung
B16: =ROW()-13 -> 3 | K16: =IF(ISBLANK($J16),"0,00",IF($G16="Stunden",VLOOKUP($J16,'Grundlage UN-Lohn'!$M$9:$R$13,2),IF($G16="Monat",VLOOKUP($J16,'Grundlage UN-Lohn'!$M$2:$R$6,2),"0,00"))) -> 0,00 | P16: =IF(ISBLANK($J16),"0,00",IF(AND($G16="Stunden",$L16="Ja"),VLOOKUP($J16,'Grundlage UN-Lohn'!$M$9:$R$13,3),IF(AND($G16="Monat",$L16="Ja"),VLOOKUP($J16,'Grundlage UN-Lohn'!$M$2:$R$6,3),"0,00"))) -> 0,00 | Q16: =IF(ISBLANK($J16),"0,00",IF(AND($G16="Stunden",$M16="Ja"),VLOOKUP($J16,'Grundlage UN-Lohn'!$M$9:$R$13,4),IF(AND($G16="Monat",$M16="Ja"),VLOOKUP($J16,'Grundlage UN-Lohn'!$M$2:$R$6,4),"0,00"))) -> 0,00 | R16: =IF(ISBLANK($J16),"0,00",IF(AND($G16="Stunden",$N16="Ja"),VLOOKUP($J16,'Grundlage UN-Lohn'!$M$9:$R$13,5),IF(AND($G16="Monat",$N16="Ja"),VLOOKUP($J16,'Grundlage UN-Lohn'!$M$2:$R$6,5),"0,00"))) -> 0,00 | S16: =IF(ISBLANK($J16),"0,00",IF(AND($G16="Stunden",$O16="Ja"),VLOOKUP($J16,'Grundlage UN-Lohn'!$M$9:$R$13,6),IF(AND($G16="Monat",$O16="Ja"),VLOOKUP($J16,'Grundlage UN-Lohn'!$M$2:$R$6,6),"0,00"))) -> 0,00 | T16: =IF(AND(L16="Nein",M16="Nein",N16="Nein",O16="Nein"),K16,ROUND(K16+(SUM(P16:S16)),0)) -> 0 | U16: =IF(G16=0,0,IF(G16="Stunden",T16*I16,IF(G16="Monat",T16*H16))) -> 0
B17: =ROW()-13 -> 4 | K17: =IF(ISBLANK($J17),"0,00",IF($G17="Stunden",VLOOKUP($J17,'Grundlage UN-Lohn'!$M$9:$R$13,2),IF($G17="Monat",VLOOKUP($J17,'Grundlage UN-Lohn'!$M$2:$R$6,2),"0,00"))) -> 0,00 | P17: =IF(ISBLANK($J17),"0,00",IF(AND($G17="Stunden",$L17="Ja"),VLOOKUP($J17,'Grundlage UN-Lohn'!$M$9:$R$13,3),IF(AND($G17="Monat",$L17="Ja"),VLOOKUP($J17,'Grundlage UN-Lohn'!$M$2:$R$6,3),"0,00"))) -> 0,00 | Q17: =IF(ISBLANK($J17),"0,00",IF(AND($G17="Stunden",$M17="Ja"),VLOOKUP($J17,'Grundlage UN-Lohn'!$M$9:$R$13,4),IF(AND($G17="Monat",$M17="Ja"),VLOOKUP($J17,'Grundlage UN-Lohn'!$M$2:$R$6,4),"0,00"))) -> 0,00 | R17: =IF(ISBLANK($J17),"0,00",IF(AND($G17="Stunden",$N17="Ja"),VLOOKUP($J17,'Grundlage UN-Lohn'!$M$9:$R$13,5),IF(AND($G17="Monat",$N17="Ja"),VLOOKUP($J17,'Grundlage UN-Lohn'!$M$2:$R$6,5),"0,00"))) -> 0,00 | S17: =IF(ISBLANK($J17),"0,00",IF(AND($G17="Stunden",$O17="Ja"),VLOOKUP($J17,'Grundlage UN-Lohn'!$M$9:$R$13,6),IF(AND($G17="Monat",$O17="Ja"),VLOOKUP($J17,'Grundlage UN-Lohn'!$M$2:$R$6,6),"0,00"))) -> 0,00 | T17: =IF(AND(L17="Nein",M17="Nein",N17="Nein",O17="Nein"),K17,ROUND(K17+(SUM(P17:S17)),0)) -> 0 | U17: =IF(G17=0,0,IF(G17="Stunden",T17*I17,IF(G17="Monat",T17*H17))) -> 0 | Y17: Vergabetiefenprüfung | Z17: 1.1 Das entsprechende Los befindet sich derzeit in Vergabetiefenprüfung
B18: =ROW()-13 -> 5 | K18: =IF(ISBLANK($J18),"0,00",IF($G18="Stunden",VLOOKUP($J18,'Grundlage UN-Lohn'!$M$9:$R$13,2),IF($G18="Monat",VLOOKUP($J18,'Grundlage UN-Lohn'!$M$2:$R$6,2),"0,00"))) -> 0,00 | P18: =IF(ISBLANK($J18),"0,00",IF(AND($G18="Stunden",$L18="Ja"),VLOOKUP($J18,'Grundlage UN-Lohn'!$M$9:$R$13,3),IF(AND($G18="Monat",$L18="Ja"),VLOOKUP($J18,'Grundlage UN-Lohn'!$M$2:$R$6,3),"0,00"))) -> 0,00 | Q18: =IF(ISBLANK($J18),"0,00",IF(AND($G18="Stunden",$M18="Ja"),VLOOKUP($J18,'Grundlage UN-Lohn'!$M$9:$R$13,4),IF(AND($G18="Monat",$M18="Ja"),VLOOKUP($J18,'Grundlage UN-Lohn'!$M$2:$R$6,4),"0,00"))) -> 0,00 | R18: =IF(ISBLANK($J18),"0,00",IF(AND($G18="Stunden",$N18="Ja"),VLOOKUP($J18,'Grundlage UN-Lohn'!$M$9:$R$13,5),IF(AND($G18="Monat",$N18="Ja"),VLOOKUP($J18,'Grundlage UN-Lohn'!$M$2:$R$6,5),"0,00"))) -> 0,00 | S18: =IF(ISBLANK($J18),"0,00",IF(AND($G18="Stunden",$O18="Ja"),VLOOKUP($J18,'Grundlage UN-Lohn'!$M$9:$R$13,6),IF(AND($G18="Monat",$O18="Ja"),VLOOKUP($J18,'Grundlage UN-Lohn'!$M$2:$R$6,6),"0,00"))) -> 0,00 | T18: =IF(AND(L18="Nein",M18="Nein",N18="Nein",O18="Nein"),K18,ROUND(K18+(SUM(P18:S18)),0)) -> 0 | U18: =IF(G18=0,0,IF(G18="Stunden",T18*I18,IF(G18="Monat",T18*H18))) -> 0 | Y18: Vergabetiefenprüfung | Z18: 1.2 Vergabetiefenprüfung ist erfolgt
B19: =ROW()-13 -> 6 | K19: =IF(ISBLANK($J19),"0,00",IF($G19="Stunden",VLOOKUP($J19,'Grundlage UN-Lohn'!$M$9:$R$13,2),IF($G19="Monat",VLOOKUP($J19,'Grundlage UN-Lohn'!$M$2:$R$6,2),"0,00"))) -> 0,00 | P19: =IF(ISBLANK($J19),"0,00",IF(AND($G19="Stunden",$L19="Ja"),VLOOKUP($J19,'Grundlage UN-Lohn'!$M$9:$R$13,3),IF(AND($G19="Monat",$L19="Ja"),VLOOKUP($J19,'Grundlage UN-Lohn'!$M$2:$R$6,3),"0,00"))) -> 0,00 | Q19: =IF(ISBLANK($J19),"0,00",IF(AND($G19="Stunden",$M19="Ja"),VLOOKUP($J19,'Grundlage UN-Lohn'!$M$9:$R$13,4),IF(AND($G19="Monat",$M19="Ja"),VLOOKUP($J19,'Grundlage UN-Lohn'!$M$2:$R$6,4),"0,00"))) -> 0,00 | R19: =IF(ISBLANK($J19),"0,00",IF(AND($G19="Stunden",$N19="Ja"),VLOOKUP($J19,'Grundlage UN-Lohn'!$M$9:$R$13,5),IF(AND($G19="Monat",$N19="Ja"),VLOOKUP($J19,'Grundlage UN-Lohn'!$M$2:$R$6,5),"0,00"))) -> 0,00 | S19: =IF(ISBLANK($J19),"0,00",IF(AND($G19="Stunden",$O19="Ja"),VLOOKUP($J19,'Grundlage UN-Lohn'!$M$9:$R$13,6),IF(AND($G19="Monat",$O19="Ja"),VLOOKUP($J19,'Grundlage UN-Lohn'!$M$2:$R$6,6),"0,00"))) -> 0,00 | T19: =IF(AND(L19="Nein",M19="Nein",N19="Nein",O19="Nein"),K19,ROUND(K19+(SUM(P19:S19)),0)) -> 0 | U19: =IF(G19=0,0,IF(G19="Stunden",T19*I19,IF(G19="Monat",T19*H19))) -> 0
B20: =ROW()-13 -> 7 | K20: =IF(ISBLANK($J20),"0,00",IF($G20="Stunden",VLOOKUP($J20,'Grundlage UN-Lohn'!$M$9:$R$13,2),IF($G20="Monat",VLOOKUP($J20,'Grundlage UN-Lohn'!$M$2:$R$6,2),"0,00"))) -> 0,00 | P20: =IF(ISBLANK($J20),"0,00",IF(AND($G20="Stunden",$L20="Ja"),VLOOKUP($J20,'Grundlage UN-Lohn'!$M$9:$R$13,3),IF(AND($G20="Monat",$L20="Ja"),VLOOKUP($J20,'Grundlage UN-Lohn'!$M$2:$R$6,3),"0,00"))) -> 0,00 | Q20: =IF(ISBLANK($J20),"0,00",IF(AND($G20="Stunden",$M20="Ja"),VLOOKUP($J20,'Grundlage UN-Lohn'!$M$9:$R$13,4),IF(AND($G20="Monat",$M20="Ja"),VLOOKUP($J20,'Grundlage UN-Lohn'!$M$2:$R$6,4),"0,00"))) -> 0,00 | R20: =IF(ISBLANK($J20),"0,00",IF(AND($G20="Stunden",$N20="Ja"),VLOOKUP($J20,'Grundlage UN-Lohn'!$M$9:$R$13,5),IF(AND($G20="Monat",$N20="Ja"),VLOOKUP($J20,'Grundlage UN-Lohn'!$M$2:$R$6,5),"0,00"))) -> 0,00 | S20: =IF(ISBLANK($J20),"0,00",IF(AND($G20="Stunden",$O20="Ja"),VLOOKUP($J20,'Grundlage UN-Lohn'!$M$9:$R$13,6),IF(AND($G20="Monat",$O20="Ja"),VLOOKUP($J20,'Grundlage UN-Lohn'!$M$2:$R$6,6),"0,00"))) -> 0,00 | T20: =IF(AND(L20="Nein",M20="Nein",N20="Nein",O20="Nein"),K20,ROUND(K20+(SUM(P20:S20)),0)) -> 0 | U20: =IF(G20=0,0,IF(G20="Stunden",T20*I20,IF(G20="Monat",T20*H20))) -> 0 | Y20: risikobasierte_Kriterien | Z20: 2.1.1 Die Angaben im zahlenmäßigen Nachweis sind unvollständig.
B21: =ROW()-13 -> 8 | K21: =IF(ISBLANK($J21),"0,00",IF($G21="Stunden",VLOOKUP($J21,'Grundlage UN-Lohn'!$M$9:$R$13,2),IF($G21="Monat",VLOOKUP($J21,'Grundlage UN-Lohn'!$M$2:$R$6,2),"0,00"))) -> 0,00 | P21: =IF(ISBLANK($J21),"0,00",IF(AND($G21="Stunden",$L21="Ja"),VLOOKUP($J21,'Grundlage UN-Lohn'!$M$9:$R$13,3),IF(AND($G21="Monat",$L21="Ja"),VLOOKUP($J21,'Grundlage UN-Lohn'!$M$2:$R$6,3),"0,00"))) -> 0,00 | Q21: =IF(ISBLANK($J21),"0,00",IF(AND($G21="Stunden",$M21="Ja"),VLOOKUP($J21,'Grundlage UN-Lohn'!$M$9:$R$13,4),IF(AND($G21="Monat",$M21="Ja"),VLOOKUP($J21,'Grundlage UN-Lohn'!$M$2:$R$6,4),"0,00"))) -> 0,00 | R21: =IF(ISBLANK($J21),"0,00",IF(AND($G21="Stunden",$N21="Ja"),VLOOKUP($J21,'Grundlage UN-Lohn'!$M$9:$R$13,5),IF(AND($G21="Monat",$N21="Ja"),VLOOKUP($J21,'Grundlage UN-Lohn'!$M$2:$R$6,5),"0,00"))) -> 0,00 | S21: =IF(ISBLANK($J21),"0,00",IF(AND($G21="Stunden",$O21="Ja"),VLOOKUP($J21,'Grundlage UN-Lohn'!$M$9:$R$13,6),IF(AND($G21="Monat",$O21="Ja"),VLOOKUP($J21,'Grundlage UN-Lohn'!$M$2:$R$6,6),"0,00"))) -> 0,00 | T21: =IF(AND(L21="Nein",M21="Nein",N21="Nein",O21="Nein"),K21,ROUND(K21+(SUM(P21:S21)),0)) -> 0 | U21: =IF(G21=0,0,IF(G21="Stunden",T21*I21,IF(G21="Monat",T21*H21))) -> 0 | Y21: risikobasierte_Kriterien | Z21: 2.1.2 Die Angaben im zahlenmäßigen Nachweis sind nicht plausibel.
B22: =ROW()-13 -> 9 | K22: =IF(ISBLANK($J22),"0,00",IF($G22="Stunden",VLOOKUP($J22,'Grundlage UN-Lohn'!$M$9:$R$13,2),IF($G22="Monat",VLOOKUP($J22,'Grundlage UN-Lohn'!$M$2:$R$6,2),"0,00"))) -> 0,00 | P22: =IF(ISBLANK($J22),"0,00",IF(AND($G22="Stunden",$L22="Ja"),VLOOKUP($J22,'Grundlage UN-Lohn'!$M$9:$R$13,3),IF(AND($G22="Monat",$L22="Ja"),VLOOKUP($J22,'Grundlage UN-Lohn'!$M$2:$R$6,3),"0,00"))) -> 0,00 | Q22: =IF(ISBLANK($J22),"0,00",IF(AND($G22="Stunden",$M22="Ja"),VLOOKUP($J22,'Grundlage UN-Lohn'!$M$9:$R$13,4),IF(AND($G22="Monat",$M22="Ja"),VLOOKUP($J22,'Grundlage UN-Lohn'!$M$2:$R$6,4),"0,00"))) -> 0,00 | R22: =IF(ISBLANK($J22),"0,00",IF(AND($G22="Stunden",$N22="Ja"),VLOOKUP($J22,'Grundlage UN-Lohn'!$M$9:$R$13,5),IF(AND($G22="Monat",$N22="Ja"),VLOOKUP($J22,'Grundlage UN-Lohn'!$M$2:$R$6,5),"0,00"))) -> 0,00 | S22: =IF(ISBLANK($J22),"0,00",IF(AND($G22="Stunden",$O22="Ja"),VLOOKUP($J22,'Grundlage UN-Lohn'!$M$9:$R$13,6),IF(AND($G22="Monat",$O22="Ja"),VLOOKUP($J22,'Grundlage UN-Lohn'!$M$2:$R$6,6),"0,00"))) -> 0,00 | T22: =IF(AND(L22="Nein",M22="Nein",N22="Nein",O22="Nein"),K22,ROUND(K22+(SUM(P22:S22)),0)) -> 0 | U22: =IF(G22=0,0,IF(G22="Stunden",T22*I22,IF(G22="Monat",T22*H22))) -> 0 | Y22: risikobasierte_Kriterien | Z22: 2.1.3 Die Angaben des Zahlungsempfängers / Rechnungslegers wecken Zweifel an der rechtmäßigen Verwendung der Mittel.
B23: =ROW()-13 -> 10 | K23: =IF(ISBLANK($J23),"0,00",IF($G23="Stunden",VLOOKUP($J23,'Grundlage UN-Lohn'!$M$9:$R$13,2),IF($G23="Monat",VLOOKUP($J23,'Grundlage UN-Lohn'!$M$2:$R$6,2),"0,00"))) -> 0,00 | P23: =IF(ISBLANK($J23),"0,00",IF(AND($G23="Stunden",$L23="Ja"),VLOOKUP($J23,'Grundlage UN-Lohn'!$M$9:$R$13,3),IF(AND($G23="Monat",$L23="Ja"),VLOOKUP($J23,'Grundlage UN-Lohn'!$M$2:$R$6,3),"0,00"))) -> 0,00 | Q23: =IF(ISBLANK($J23),"0,00",IF(AND($G23="Stunden",$M23="Ja"),VLOOKUP($J23,'Grundlage UN-Lohn'!$M$9:$R$13,4),IF(AND($G23="Monat",$M23="Ja"),VLOOKUP($J23,'Grundlage UN-Lohn'!$M$2:$R$6,4),"0,00"))) -> 0,00 | R23: =IF(ISBLANK($J23),"0,00",IF(AND($G23="Stunden",$N23="Ja"),VLOOKUP($J23,'Grundlage UN-Lohn'!$M$9:$R$13,5),IF(AND($G23="Monat",$N23="Ja"),VLOOKUP($J23,'Grundlage UN-Lohn'!$M$2:$R$6,5),"0,00"))) -> 0,00 | S23: =IF(ISBLANK($J23),"0,00",IF(AND($G23="Stunden",$O23="Ja"),VLOOKUP($J23,'Grundlage UN-Lohn'!$M$9:$R$13,6),IF(AND($G23="Monat",$O23="Ja"),VLOOKUP($J23,'Grundlage UN-Lohn'!$M$2:$R$6,6),"0,00"))) -> 0,00 | T23: =IF(AND(L23="Nein",M23="Nein",N23="Nein",O23="Nein"),K23,ROUND(K23+(SUM(P23:S23)),0)) -> 0 | U23: =IF(G23=0,0,IF(G23="Stunden",T23*I23,IF(G23="Monat",T23*H23))) -> 0 | Y23: risikobasierte_Kriterien | Z23: 2.1.4 Aus den Angaben des Zuwendungsempfängers im Verwendungszweck des zahlenmäßigen Nachweises ergeben sich Hinweise auf einen unklaren Bezug zum Vorhaben.
B24: =ROW()-13 -> 11 | K24: =IF(ISBLANK($J24),"0,00",IF($G24="Stunden",VLOOKUP($J24,'Grundlage UN-Lohn'!$M$9:$R$13,2),IF($G24="Monat",VLOOKUP($J24,'Grundlage UN-Lohn'!$M$2:$R$6,2),"0,00"))) -> 0,00 | P24: =IF(ISBLANK($J24),"0,00",IF(AND($G24="Stunden",$L24="Ja"),VLOOKUP($J24,'Grundlage UN-Lohn'!$M$9:$R$13,3),IF(AND($G24="Monat",$L24="Ja"),VLOOKUP($J24,'Grundlage UN-Lohn'!$M$2:$R$6,3),"0,00"))) -> 0,00 | Q24: =IF(ISBLANK($J24),"0,00",IF(AND($G24="Stunden",$M24="Ja"),VLOOKUP($J24,'Grundlage UN-Lohn'!$M$9:$R$13,4),IF(AND($G24="Monat",$M24="Ja"),VLOOKUP($J24,'Grundlage UN-Lohn'!$M$2:$R$6,4),"0,00"))) -> 0,00 | R24: =IF(ISBLANK($J24),"0,00",IF(AND($G24="Stunden",$N24="Ja"),VLOOKUP($J24,'Grundlage UN-Lohn'!$M$9:$R$13,5),IF(AND($G24="Monat",$N24="Ja"),VLOOKUP($J24,'Grundlage UN-Lohn'!$M$2:$R$6,5),"0,00"))) -> 0,00 | S24: =IF(ISBLANK($J24),"0,00",IF(AND($G24="Stunden",$O24="Ja"),VLOOKUP($J24,'Grundlage UN-Lohn'!$M$9:$R$13,6),IF(AND($G24="Monat",$O24="Ja"),VLOOKUP($J24,'Grundlage UN-Lohn'!$M$2:$R$6,6),"0,00"))) -> 0,00 | T24: =IF(AND(L24="Nein",M24="Nein",N24="Nein",O24="Nein"),K24,ROUND(K24+(SUM(P24:S24)),0)) -> 0 | U24: =IF(G24=0,0,IF(G24="Stunden",T24*I24,IF(G24="Monat",T24*H24))) -> 0 | Y24: risikobasierte_Kriterien | Z24: 2.1.5 Aus den Angaben des Zuwendungsempfängers im Verwendungszweck des zahlenmäßigen Nachweises ergeben sich Hinweise auf eine Nichtförderfähigkeit der Ausgaben.
