Workbook
Name Prozent: 'Indirekte Ausgaben'!$A$15:$A$17

Sheet Gesamtübersicht
A2: GESAMTÜBERSICHT | G2: Hinweis: Die Angaben in den nicht farblich unterlegten Feldern werden aufgrund Ihrer Eingaben unter Personalausgaben automatisch berechnet.
G3: Bitte die grau hinterlegten Felder befüllen!
A4: Programm KAUSA Landesstelle
A6: Anlage zum Antrag vom
A8: Zuwendungsempfänger
A9: Vorhaben

Sheet Finanzierungsplan
A2: Finanzierungsplan - Anlage zum Antrag vom | O2: =IF(Gesamtübersicht!B6="","",Gesamtübersicht!B6) | AE2: Bitte die grau hinterlegten Felder befüllen!
A4: Zuwendungsempfänger | O4: =IF(Gesamtübersicht!B8="","",Gesamtübersicht!B8)
A5: Vorhaben | O5: =IF(Gesamtübersicht!B9="","",Gesamtübersicht!B9)
A7: Ausgaben des Vorhabens
A9: Ausgaben für Projektpersonal
A11: 1.1 | C11: Personalausgabenpauschale (Summe ist aus der gesonderten Anlage "Personalausgaben-Pauschale - Anlage zum Antrag" zu übernehmen)
A12: 1. | C12: Ausgaben für Projektpersonal (Summe 1.1) | X12: =SUM(X11:AC11) -> 0
A14: Direkte Ausgaben
A16: 2.1 | C16: Ausgaben für Dienstreisen des Projektpersonals | X16: =IF('Direkte Ausgaben'!Y11="","0,00 €",ROUND('Direkte Ausgaben'!Y11,2)) -> 0,00 €
A17: 2.2 | C17: Ausgaben für Lehrgänge und Leistungen externer Einrichtungen | X17: =IF('Direkte Ausgaben'!Y38="","0,00 €",ROUND('Direkte Ausgaben'!Y38,2)) -> 0,00 €
A18: 2.3 | C18: Miet- und Leasingausgaben für projektbezogene Ausstattungsgegenstände | X18: =IF('Direkte Ausgaben'!Y57="",0,ROUND('Direkte Ausgaben'!Y57,2)) -> 0
A19: 2.4 | C19: Ausgaben für geringwertige Wirtschaftsgüter | X19: =IF('Direkte Ausgaben'!Y76="",0,ROUND('Direkte Ausgaben'!Y76,2)) -> 0
A20: 2.5 | C20: Ausgaben für Öffentlichkeitsarbeit | X20: =IF('Direkte Ausgaben'!Y93="",0,ROUND('Direkte Ausgaben'!Y93,2)) -> 0
A21: 2. | C21: Direkte Ausgaben (Summe 2.1 bis 2.5) | X21: =SUM(X16:AC20) -> 0
A23: Indirekte Ausgaben
A25: 3.1 | C25: Pauschale für indirekte Ausgaben in Höhe von 15 v.H. der Ausgaben für Projektpersonal (1.) | X25: =ROUND('Indirekte Ausgaben'!Y12,2) -> 0
A26: 3. | C26: Indirekte Ausgaben (Summe 3.1) | X26: =SUM(X25:AC25) -> 0
A28: 4. | C28: Summe aller Ausgaben des Projektes | X28: =SUM(X12)+SUM(X21)+SUM(X26) -> 0
A30: Verteilung der Ausgaben des Vorhabens auf die Haushaltsjahre
A32: Kalenderjahr | I32: 2027 | N32: 2028 | X32: Summe
A33: 1. | C33: Ausgaben für Projektpersonal | X33: =IF(SUM(I33:W33)=X12,SUM(I33:W33),"nicht korrekt") -> 0
A34: 2. | C34: Direkte Ausgaben | X34: =IF(SUM(I34:W34)=X21,SUM(I34:W34),"nicht korrekt") -> 0
A35: 3. | C35: Indirekte Ausgaben | X35: =IF(SUM(I35:W35)=X26,SUM(I35:W35),"nicht korrekt") -> 0
C36: Summe | I36: =SUM(I33:M35) -> 0 | N36: =SUM(N33:R35) -> 0 | X36: =IF(SUM(I36:W36)=X28,SUM(I36:W36),"nicht korrekt") -> 0
A38: Planung der Einnahmen nach Haushaltsjahren
A40: Kalenderjahr | I40: =I32 -> 2027 | N40: =N32 -> 2028 | X40: Summe
A42: Private Mittel
A43: I. | C43: Eigenmittel privat | X43: =SUM(I43:W43) -> 0
A44: Summe Private Mittel | I44: =SUM(I43:M43) -> 0 | N44: =SUM(N43) -> 0 | X44: =SUM(X43:AC43) -> 0
A46: Öffentliche Mittel
A47: II. | C47: Bundesmittel | X47: =SUM(I47:W47) -> 0
A48: III. | C48: kommunale Mittel | X48: =SUM(I48:W48) -> 0
A49: IV. | C49: andere öffentliche Mittel | X49: =SUM(I49:W49) -> 0
A50: Summe öffentliche Mittel | I50: =SUM(I47:M49) -> 0 | N50: =SUM(N47:R49) -> 0 | X50: =SUM(I50:W50) -> 0
A51: V. | C51: Fördermittel | I51: =I36-I44-I50 -> 0 | N51: =N36-N44-N50 -> 0 | X51: =SUM(I51:W51) -> 0
A52: Summe gesamt | I52: =I51+I50+I44 -> 0 | N52: =N51+N50+N44 -> 0 | X52: =X51+X50+X44 -> 0

Sheet Direkte Ausgaben
A2: Finanzierungsplan - Anlage zum Antrag vom | O2: =IF(Gesamtübersicht!B6="","",Gesamtübersicht!B6) | AE2: Bitte die grau hinterlegten Felder befüllen!
A4: Zuwendungsempfänger | O4: =IF(Gesamtübersicht!B8="","",Gesamtübersicht!B8)
A5: Vorhaben | O5: =IF(Gesamtübersicht!B9="","",Gesamtübersicht!B9)
A7: 2. Direkte Ausgaben
A9: =Finanzierungsplan!A16&" "&Finanzierungsplan!C16 -> 2.1 Ausgaben für Dienstreisen des Projektpersonals
A11: Summe der Ausgaben für Dienstreisen des Projektpersonals (Wegstreckenentschädigung, ÖPNV (Bus, Bahn), Tagegeld, Übernachtungsgeld, Nebenkosten)1):
A13: 1) Bitte kalkulieren Sie die Ausgaben für die Dienstreisen des Projektpersonals in Anlehnung an das Bundesreisekostengesetz (BRKG) in Verbindung mit dem Besoldungs- und Versorgungsrechtsergänzungsgesetz des Landes Sachsen-Anhalt (BesVersEG LSA) und an die Auslandsreisekostenverordnung (ARV) des Bundes in der jeweils geltenden Fassung, erläutern Sie gesondert die Zusammensetzung der Ausgaben und begründen Sie deren Notwendigkeit für die Umsetzung des Vorhabens (Anlage zum Antrag).
A15: 2.2 Ausgaben für Lehrgänge und Leistungen externer Einrichtungen2)
A17: Bezeichnung der externen Leistung | Y17: Betrag
P38: Summe: | Y38: =IF(SUM(Y18:AC37)=0,"",ROUND(SUM(Y18:AC37),2))
A40: 2) Bitte fügen Sie zur Prüfung der Wirtschaftlichkeit und Sparsamkeit drei Vergleichsberechnungen/-angebote (wenn bereits vorhanden), Recherchen, Markterkundungen oder Begründungen zu Erfahrungswerten je Leistung als Anlage bei.
A42: 2.3 Miet- und Leasingausgaben für vorhabensbezogene Ausstattungsgegenstände3)
A44: Gegenstand | O44: Ausgaben je Monat | T44: Dauer in Monaten | Y44: Ergebnis
Y45: =IF(OR(A45="",O45="",T45=""),"",ROUND(O45*T45,2))
Y46: =IF(OR(A46="",O46="",T46=""),"",ROUND(O46*T46,2))
Y47: =IF(OR(A47="",O47="",T47=""),"",ROUND(O47*T47,2))
Y48: =IF(OR(A48="",O48="",T48=""),"",ROUND(O48*T48,2))
Y49: =IF(OR(A49="",O49="",T49=""),"",ROUND(O49*T49,2))
Y50: =IF(OR(A50="",O50="",T50=""),"",ROUND(O50*T50,2))
Y51: =IF(OR(A51="",O51="",T51=""),"",ROUND(O51*T51,2))
Y52: =IF(OR(A52="",O52="",T52=""),"",ROUND(O52*T52,2))
Y53: =IF(OR(A53="",O53="",T53=""),"",ROUND(O53*T53,2))
Y54: =IF(OR(A54="",O54="",T54=""),"",ROUND(O54*T54,2))
Y55: =IF(OR(A55="",O55="",T55=""),"",ROUND(O55*T55,2))
Y56: =IF(OR(A56="",O56="",T56=""),"",ROUND(O56*T56,2))
T57: Summe: | Y57: =IF(SUM(Y45:AC56)=0,"",ROUND(SUM(Y45:AC56),2))
A59: 3) Bei Neubeschaffungen (Miete, Leasing) im Rahmen des Vorhabens ist die Entscheidung für die gewählte Beschaffungsart zu begründen. Dazu haben Sie mindestens drei Angebote einzuholen, wovon zwei Angebote direkt vergleichbar sein müssen und das Dritte dokumentiert, dass diese Beschaffungsart wesentlich unwirtschaftlicher ist als die bevorzugte Alternative (z .B. ein Angebot für die Anmietung eines vorhabensbezogenen Ausstattungsgegenstandes sowie zwei weitere Leasingangebote für denselben vorhabensbezogenen Ausstattungsgegenstand, die deutlich günstiger sind). Sofern Sie anderweitig nachweisen, dass Sie eine Wirtschaftlichkeitsbetrachtung bezüglich Miete oder Leasing durchgeführt haben, sind drei Angebote der ausgewählten Beschaffungsart einzuholen. Die Summe der maximal zuwendungsfähigen Miet- und Leasingausgaben darf den marktüblichen Wert des gemieteten oder geleasten vorhabensbezogenen Ausstattungsgegenstandes bei Neuerwerbung zum Zeitpunkt der Anschaffung und bei bereits vorhandenen Betriebsmitteln zum Zeitpunkt des Vorhabenbeginns nicht übersteigen.
A61: 2.4 Ausgaben für geringwertige Wirtschaftsgüter4)
A63: Bezeichnung/Gegenstand | O63: Anzahl | T63: Einzelbetrag | Y63: Ergebnis
Y64: =IF(OR(A64="",O64="",T64=""),"",ROUND(O64*T64,2))
Y65: =IF(OR(A65="",O65="",T65=""),"",ROUND(O65*T65,2))
Y66: =IF(OR(A66="",O66="",T66=""),"",ROUND(O66*T66,2))
Y67: =IF(OR(A67="",O67="",T67=""),"",ROUND(O67*T67,2))
Y68: =IF(OR(A68="",O68="",T68=""),"",ROUND(O68*T68,2))
Y69: =IF(OR(A69="",O69="",T69=""),"",ROUND(O69*T69,2))
Y70: =IF(OR(A70="",O70="",T70=""),"",ROUND(O70*T70,2))
Y71: =IF(OR(A71="",O71="",T71=""),"",ROUND(O71*T71,2))
Y72: =IF(OR(A72="",O72="",T72=""),"",ROUND(O72*T72,2))
Y73: =IF(OR(A73="",O73="",T73=""),"",ROUND(O73*T73,2))
Y74: =IF(OR(A74="",O74="",T74=""),"",ROUND(O74*T74,2))
...

Sheet Indirekte Ausgaben
A2: Finanzierungsplan - Anlage zum Antrag vom | O2: =IF(Gesamtübersicht!B6="","",Gesamtübersicht!B6) | AE2: Bitte die grau hinterlegten Felder befüllen!
A4: Zuwendungsempfänger | O4: =IF(Gesamtübersicht!B8="","",Gesamtübersicht!B8)
A5: Vorhaben | O5: =IF(Gesamtübersicht!B9="","",Gesamtübersicht!B9)
A7: =Finanzierungsplan!A26&" "&Finanzierungsplan!A23 -> 3. Indirekte Ausgaben
A9: =Finanzierungsplan!A25&" "&Finanzierungsplan!C25 -> 3.1 Pauschale für indirekte Ausgaben in Höhe von 15 v.H. der Ausgaben für Projektpersonal (1.)
A11: Bezeichnung | Y11: Betrag
A12: Pauschale an den direkten Personalausgaben für projektbezogenes Personal nach Nr. 1. des Finanzierungsplans | Q12: 0.15 | Y12: =ROUND(Finanzierungsplan!X12*'Indirekte Ausgaben'!$Q$12,2) -> 0
